BEGIN:VCALENDAR
VERSION:2.0
PRODID:-//Grace Online Church  - ECPv6.15.20//NONSGML v1.0//EN
CALSCALE:GREGORIAN
METHOD:PUBLISH
X-ORIGINAL-URL:https://graceonlinechurch.com
X-WR-CALDESC:Events for Grace Online Church 
REFRESH-INTERVAL;VALUE=DURATION:PT1H
X-Robots-Tag:noindex
X-PUBLISHED-TTL:PT1H
BEGIN:VTIMEZONE
TZID:UTC
BEGIN:STANDARD
TZOFFSETFROM:+0000
TZOFFSETTO:+0000
TZNAME:UTC
DTSTART:20240101T000000
END:STANDARD
END:VTIMEZONE
BEGIN:VEVENT
DTSTART;TZID=UTC:20251102T100000
DTEND;TZID=UTC:20251102T110000
DTSTAMP:20260419T153214
CREATED:20251102T033540Z
LAST-MODIFIED:20251102T033541Z
UID:3550-1762077600-1762081200@graceonlinechurch.com
SUMMARY:Sunday Live Service As a Man Thinks: The Power of a Renewed Inner Life
DESCRIPTION:Grace and peace to you\, beloved family of God\, \nTomorrow\, we gather again at Grace Online Church for the closing message in our Rewired Series:💭 “As a Man Thinks: The Power of a Renewed Inner Life.” \nThis message is about how God transforms the way we think so that our lives can reflect His truth\, His peace\, and His promises.Your thoughts determine your direction — and God desires to renew your mind for victory and abundant life. \n📖 “For as he thinketh in his heart\, so is he.” — Proverbs 23:7 \nWe’d love for you to join us\, worship with us\, and grow with us as we dig deeper into what it means to live with a renewed heart and mind in Christ. \n\n🗓️ Service Details\n📅 Sunday🕙 10 AM PST / 1 PM EST🎥 Watch Live: https://youtu.be/jvH0R87M_Ec  \nLet’s renew our minds together and walk in the life God has already promised us. \nGrace and Peace\,Elder Howard G. LindsayGrace Online Church \n\n💝 Your Generosity Makes Ministry Possible\nYour giving helps us impact lives and share Christ’s love around the world. \n💳 Donate Online: graceonlinechurch.com/give📬 Mail: Grace Tabernacle MinistriesPO Box 24307\, San Francisco\, CA 94124 \n\n📖 Weekly Bible Study\n🔹 Day: Wednesday🔹 Time: 6 PM PT / 9 PM ET🔹 Platform: Zoom — Meeting ID: 415.822.9566 \nJoin us as we journey through Scripture\, share insights\, and grow in faith together. \n\nEarly Risers Prayer Call\n🔹 Start Date: This Friday🔹 Time: 6 AM PT / 9 AM ET🔹 Platform: Zoom — Meeting ID: 415.822.9566 \nBegin your day with prayer\, encouragement\, and spiritual renewal.This sacred time will set a powerful tone for your day — offering moments of connection\, peace\, and faith.
URL:https://graceonlinechurch.com/event/as-a-man-thinks-renewed-inner-life-sermon/
LOCATION:Online – https://www.youtube.com/@GraceTabernacleOnlineChurch \, CA\, 91367\, United States
CATEGORIES:Prayer & Worship,Sunday Worship Service - Grace Online Church
ATTACH;FMTTYPE=image/jpeg:https://graceonlinechurch.com/wp-content/uploads/2025/11/The-Tongue-Trains-the-Brain-Speak-Life-Shift-Atmosphere-5.jpg
END:VEVENT
BEGIN:VEVENT
DTSTART;TZID=UTC:20251116T100000
DTEND;TZID=UTC:20251116T230000
DTSTAMP:20260419T153214
CREATED:20251116T080506Z
LAST-MODIFIED:20251116T080611Z
UID:3578-1763287200-1763334000@graceonlinechurch.com
SUMMARY:Sunday Live Service – “Fear of the Unknown: When Faith Feels Risky”
DESCRIPTION:with Elder Howard G. Lindsay📅 This Sunday at 10 AM PST📍 www.GraceOnlineChurch.com \n\nGrace and peace to you\, beloved family of God\,\nIf you’ve been facing uncertainty or carrying the weight of the unknown\, I want you to know this: God sees you. God is with you. And He has a word prepared for your heart. \nThis Sunday\, I will be sharing a message titled: \n“Fear of the Unknown — When Faith Feels Risky.”\nTogether\, we will walk through: \n\n\nNumbers 13:25–33 \n\n\nIsaiah 41:10 \n\n\n2 Timothy 1:7 \n\n\nJoshua 1:9 \n\n\nWe’ll explore how God meets us in places that feel unfamiliar — and how faith empowers us to move forward when fear tries to hold us back. \nIf fear has been speaking loudly in your life\,let the voice of God speak louder. \n\n📅 Join Us Live This Sunday\nSunday at 10:00 AM PST📍 Watch on YouTube or at:👉 https://www.youtube.com/watch?v=NZFkBrHhaQw  \nCome expecting encouragement\, clarity\, and strength for the week ahead. \n\nYou Are Not Alone\nYou are stronger than you think\, and God has already gone ahead of you.I look forward to worshiping with you. \nWith love and grace\,Elder Howard G. LindsayGrace Online Church \nYour generosity helps us impact lives \nand share Christ’s love with the world. \n\n\nDonate Online: graceonlinechurch.com/give \n\n\n📬 Mail: Grace Tabernacle Ministries\, PO Box 24307\, San Francisco\, CA 9412
URL:https://graceonlinechurch.com/event/fear-of-the-unknown-sunday-service/
LOCATION:Online – https://www.youtube.com/@GraceTabernacleOnlineChurch \, CA\, 91367\, United States
CATEGORIES:Sunday Worship Service - Grace Online Church
ATTACH;FMTTYPE=image/jpeg:https://graceonlinechurch.com/wp-content/uploads/2025/11/fear-of-the-unknown-when-faith-feels-risky-sermon-grace-online-church-elder-howard-lindsay-.jpg
END:VEVENT
BEGIN:VEVENT
DTSTART;TZID=UTC:20251130T100000
DTEND;TZID=UTC:20251130T110000
DTSTAMP:20260419T153214
CREATED:20251130T080155Z
LAST-MODIFIED:20251130T080155Z
UID:3609-1764496800-1764500400@graceonlinechurch.com
SUMMARY:Grace Online Church - Avoiding the Hard Things – YouTube Premiere Event
DESCRIPTION:📅 Sunday • 10 AM PST📍 YouTube Live Premiere – Watch HERE \nJoin us for a powerful message on spiritual growth\, obedience\, and overcoming avoidance. Discover what God is calling you to confront and how to step into your next season with strength and faith. \nWhat to Expect:✔️ Uplifting worship✔️ A transformative sermon✔️ Live chat fellowship✔️ Tools to help you grow spiritually✔️ A message filled with hope\, clarity\, and breakthrough \nDon’t miss it—set your reminder now!
URL:https://graceonlinechurch.com/event/grace-online-church-avoiding-the-hard-things-youtube-premiere-event/
LOCATION:Online – https://www.youtube.com/@GraceTabernacleOnlineChurch \, CA\, 91367\, United States
CATEGORIES:Sunday Worship Service - Grace Online Church
ATTACH;FMTTYPE=image/jpeg:https://graceonlinechurch.com/wp-content/uploads/2025/11/The-Tongue-Trains-the-Brain-Speak-Life-Shift-Atmosphere-8.jpg
END:VEVENT
END:VCALENDAR