BEGIN:VCALENDAR
VERSION:2.0
PRODID:-//Grace Online Church  - ECPv6.15.20//NONSGML v1.0//EN
CALSCALE:GREGORIAN
METHOD:PUBLISH
X-WR-CALNAME:Grace Online Church 
X-ORIGINAL-URL:https://graceonlinechurch.com
X-WR-CALDESC:Events for Grace Online Church 
REFRESH-INTERVAL;VALUE=DURATION:PT1H
X-Robots-Tag:noindex
X-PUBLISHED-TTL:PT1H
BEGIN:VTIMEZONE
TZID:UTC
BEGIN:STANDARD
TZOFFSETFROM:+0000
TZOFFSETTO:+0000
TZNAME:UTC
DTSTART:20240101T000000
END:STANDARD
END:VTIMEZONE
BEGIN:VEVENT
DTSTART;TZID=UTC:20251109T100000
DTEND;TZID=UTC:20251109T110000
DTSTAMP:20260420T004246
CREATED:20251109T023929Z
LAST-MODIFIED:20251109T023929Z
UID:3562-1762682400-1762686000@graceonlinechurch.com
SUMMARY:🌿 Out of the Wilderness: The Trap of Complaining
DESCRIPTION:Sunday Live Service with Elder Howard G. Lindsay\n📅 Date: Sunday\, November 9\, 2025🕙 Time: 10:00 AM PST📍 Location: Online — Watch live on YouTube💌 Stay Connected: www.GraceOnlineChurch.com  \n\n✨ Something Good Is Going to Happen to You Today! 🙌🏾\nFeeling stuck in the same place — praying\, believing\, but not seeing change? Sometimes life feels like a wilderness. But what if that wilderness isn’t punishment… it’s preparation? \nJoin us this Sunday for a powerful and uplifting message from Elder Howard G. Lindsay\, “Out of the Wilderness: The Trap of Complaining.” 🌿Discover how gratitude can shift your mindset\, renew your faith\, and move you closer to the life God has called you to live. \n\n🎶 Pre-Service with Maya & Worship Songs\nWe’ll begin with a beautiful Pre-Service with Maya\, followed by soul-refreshing worship that sets the atmosphere for God’s Word to move powerfully. \n\n📖 Scripture Focus\n\nNumbers 11:1–6 | Philippians 2:14–15 | 1 Thessalonians 5:18 (NIV)“Give thanks in all circumstances; for this is God’s will for you in Christ Jesus.” – 1 Thessalonians 5:18 \n\nThis week\, we’re learning how gratitude opens doors\, strengthens our spirit\, and draws us closer to God’s promises. \n\n💬 What to Expect\n🌿 A word that will strengthen your faith🎶 Uplifting worship to fill your home with joy💛 Encouragement for your spiritual journey📲 Live chat & fellowship with our Grace & Peace family \n\n📺 Watch Live on YouTube\n👉 youtube.com/@GraceTabernacleOnlineChurch \nJoin the conversation in the live chat — say hello\, share a prayer request\, and let us know where you’re watching from! \n\n💌 Subscribe for Weekly Reminders\nDon’t miss a single service!📩 Sign up for weekly encouragement and notifications at:👉 www.GraceOnlineChurch.com \n\n🌟 Final Encouragement\nAs Elder Lindsay reminds us: \n\n“Gratitude isn’t denial — it’s defiance.”It’s saying\, “My situation won’t define my spirit.” \n\nSo wherever you are today\, take a moment and declare it with faith:✨ Something good is going to happen to me today! 🙌🏾 \nWe can’t wait to worship with you this Sunday\, family. ❤️
URL:https://graceonlinechurch.com/event/%f0%9f%8c%bf-out-of-the-wilderness-the-trap-of-complaining/
LOCATION:Online – https://www.youtube.com/@GraceTabernacleOnlineChurch \, CA\, 91367\, United States
CATEGORIES:Sunday Worship Service - Grace Online Church
ATTACH;FMTTYPE=image/jpeg:https://graceonlinechurch.com/wp-content/uploads/2025/11/Numbers-111-6-Philippians-214-15-1-Thessalonians-518.jpg
END:VEVENT
BEGIN:VEVENT
DTSTART;TZID=UTC:20251116T100000
DTEND;TZID=UTC:20251116T230000
DTSTAMP:20260420T004246
CREATED:20251116T080506Z
LAST-MODIFIED:20251116T080611Z
UID:3578-1763287200-1763334000@graceonlinechurch.com
SUMMARY:Sunday Live Service – “Fear of the Unknown: When Faith Feels Risky”
DESCRIPTION:with Elder Howard G. Lindsay📅 This Sunday at 10 AM PST📍 www.GraceOnlineChurch.com \n\nGrace and peace to you\, beloved family of God\,\nIf you’ve been facing uncertainty or carrying the weight of the unknown\, I want you to know this: God sees you. God is with you. And He has a word prepared for your heart. \nThis Sunday\, I will be sharing a message titled: \n“Fear of the Unknown — When Faith Feels Risky.”\nTogether\, we will walk through: \n\n\nNumbers 13:25–33 \n\n\nIsaiah 41:10 \n\n\n2 Timothy 1:7 \n\n\nJoshua 1:9 \n\n\nWe’ll explore how God meets us in places that feel unfamiliar — and how faith empowers us to move forward when fear tries to hold us back. \nIf fear has been speaking loudly in your life\,let the voice of God speak louder. \n\n📅 Join Us Live This Sunday\nSunday at 10:00 AM PST📍 Watch on YouTube or at:👉 https://www.youtube.com/watch?v=NZFkBrHhaQw  \nCome expecting encouragement\, clarity\, and strength for the week ahead. \n\nYou Are Not Alone\nYou are stronger than you think\, and God has already gone ahead of you.I look forward to worshiping with you. \nWith love and grace\,Elder Howard G. LindsayGrace Online Church \nYour generosity helps us impact lives \nand share Christ’s love with the world. \n\n\nDonate Online: graceonlinechurch.com/give \n\n\n📬 Mail: Grace Tabernacle Ministries\, PO Box 24307\, San Francisco\, CA 9412
URL:https://graceonlinechurch.com/event/fear-of-the-unknown-sunday-service/
LOCATION:Online – https://www.youtube.com/@GraceTabernacleOnlineChurch \, CA\, 91367\, United States
CATEGORIES:Sunday Worship Service - Grace Online Church
ATTACH;FMTTYPE=image/jpeg:https://graceonlinechurch.com/wp-content/uploads/2025/11/fear-of-the-unknown-when-faith-feels-risky-sermon-grace-online-church-elder-howard-lindsay-.jpg
END:VEVENT
END:VCALENDAR