BEGIN:VCALENDAR
VERSION:2.0
PRODID:-//Grace Online Church  - ECPv6.15.20//NONSGML v1.0//EN
CALSCALE:GREGORIAN
METHOD:PUBLISH
X-WR-CALNAME:Grace Online Church 
X-ORIGINAL-URL:https://graceonlinechurch.com
X-WR-CALDESC:Events for Grace Online Church 
REFRESH-INTERVAL;VALUE=DURATION:PT1H
X-Robots-Tag:noindex
X-PUBLISHED-TTL:PT1H
BEGIN:VTIMEZONE
TZID:UTC
BEGIN:STANDARD
TZOFFSETFROM:+0000
TZOFFSETTO:+0000
TZNAME:UTC
DTSTART:20240101T000000
END:STANDARD
END:VTIMEZONE
BEGIN:VEVENT
DTSTART;TZID=UTC:20250831T100000
DTEND;TZID=UTC:20250831T110000
DTSTAMP:20260420T055421
CREATED:20250831T052317Z
LAST-MODIFIED:20250831T052317Z
UID:3368-1756634400-1756638000@graceonlinechurch.com
SUMMARY:“The Dichotomy of Forgetting.” - Sunday\, August 31\, 2025
DESCRIPTION:Date: Sunday\, August 31\, 2025Time: 10 AM PT | 1 PM ETLocation: Grace Tabernacle Online Church YouTube \nJoin Bishop Ernest L. Jackson and the Grace Online family for this week’s live service. Bishop will deliver a powerful message titled:“The Dichotomy of Forgetting.” \nDiscover how God’s Word teaches us both to remember and to forget—and how learning the difference brings true freedom and victory in Christ. \nWhat to Expect\n\n\nSpirit-filled worship \n\n\nA life-changing Word for your journey \n\n\nPrayer\, encouragement\, and fellowship \n\n\nA reminder that something good is going to happen to you today! \n\n\n📖 This Week’s Service Includes: \n\n\nPreshow with Jaden & Maya \n\n\nWorship with Enrique Holmes (Firm Foundation) & Antwaun Cooks (Awesome) \n\n\nThe Word – The Dichotomy of Forgetting \n\n\nCall to Discipleship & Giving – Pastor Howard Lindsay \n\n\nGrace Telegram – Special encouragement \n\n\nDon’t miss it—come ready to worship\, receive\, and be renewed!
URL:https://graceonlinechurch.com/event/the-dichotomy-of-forgetting-sunday-august-31-2025/
LOCATION:Online – https://www.youtube.com/@GraceTabernacleOnlineChurch \, CA\, 91367\, United States
CATEGORIES:Sunday Worship Service - Grace Online Church
ATTACH;FMTTYPE=image/jpeg:https://graceonlinechurch.com/wp-content/uploads/2025/08/Dichotomy-of-Forgetting-Sunday-Live-Service-grace-online-church-2.jpg
END:VEVENT
END:VCALENDAR