BEGIN:VCALENDAR
VERSION:2.0
PRODID:-//Grace Online Church  - ECPv6.15.20//NONSGML v1.0//EN
CALSCALE:GREGORIAN
METHOD:PUBLISH
X-ORIGINAL-URL:https://graceonlinechurch.com
X-WR-CALDESC:Events for Grace Online Church 
REFRESH-INTERVAL;VALUE=DURATION:PT1H
X-Robots-Tag:noindex
X-PUBLISHED-TTL:PT1H
BEGIN:VTIMEZONE
TZID:UTC
BEGIN:STANDARD
TZOFFSETFROM:+0000
TZOFFSETTO:+0000
TZNAME:UTC
DTSTART:20230101T000000
END:STANDARD
END:VTIMEZONE
BEGIN:VTIMEZONE
TZID:America/Los_Angeles
BEGIN:DAYLIGHT
TZOFFSETFROM:-0800
TZOFFSETTO:-0700
TZNAME:PDT
DTSTART:20240310T100000
END:DAYLIGHT
BEGIN:STANDARD
TZOFFSETFROM:-0700
TZOFFSETTO:-0800
TZNAME:PST
DTSTART:20241103T090000
END:STANDARD
BEGIN:DAYLIGHT
TZOFFSETFROM:-0800
TZOFFSETTO:-0700
TZNAME:PDT
DTSTART:20250309T100000
END:DAYLIGHT
BEGIN:STANDARD
TZOFFSETFROM:-0700
TZOFFSETTO:-0800
TZNAME:PST
DTSTART:20251102T090000
END:STANDARD
BEGIN:DAYLIGHT
TZOFFSETFROM:-0800
TZOFFSETTO:-0700
TZNAME:PDT
DTSTART:20260308T100000
END:DAYLIGHT
BEGIN:STANDARD
TZOFFSETFROM:-0700
TZOFFSETTO:-0800
TZNAME:PST
DTSTART:20261101T090000
END:STANDARD
END:VTIMEZONE
BEGIN:VEVENT
DTSTART;TZID=UTC:20250309T100000
DTEND;TZID=UTC:20250309T120000
DTSTAMP:20260419T160949
CREATED:20250309T194634Z
LAST-MODIFIED:20250309T194655Z
UID:2642-1741514400-1741521600@graceonlinechurch.com
SUMMARY:The Elephant in the Church House Part 2 | Grace Online Church
DESCRIPTION:Silence is NOT an option. Too many voices have been ignored\, too many wounds left unhealed. Join Bishop Ernest Jackson for Part 2 of the powerful and necessary conversation about forgiveness\, healing\, and confronting hidden struggles in the church. \nBiblical Focus: 2 Samuel 13\, John 10:10\, Matthew 5:44Unforgiveness\, pain\, and injustice have kept too many in chains. This message will challenge us to break free\, stand for truth\, and walk in healing. \nWATCH LIVE on YouTubeDate: Sunday at 10:00 AM (PST)Where: Online – Watch Here \n🙌🏾 Be a part of this life-changing message!✅ Learn how to overcome pain & break free from the weight of unforgiveness✅ Discover the spiritual & emotional impact of silence on victims✅ Stand for truth and justice within the church \nSupport the Ministry – Help Us Spread the Message!Your donations make a real impact\, allowing us to continue this ministry\, reach more people\, and provide healing through God’s word. \n🔗 Give Today: https://graceonlinechurch.com/donation/ (Venmo\, CashApp & Gively available!) \nNeed Prayer? Submit your requests here: https://graceonlinechurch.com/prayer-request/ \nStay Connected:Website: https://www.graceonlinechurch.com/YouTube: https://www.youtube.com/@GraceTabernacleOnlineChurch/featuredInstagram: https://www.instagram.com/graceonlinechurchsf/Facebook: https://www.facebook.com/GraceTabCCSF \n🔥 Join us and let’s break the silence together! Drop a 🙏🏾 in the comments if you’re praying for healing and truth to prevail.
URL:https://graceonlinechurch.com/event/the-elephant-in-the-church-house-part-2-grace-online-church/
LOCATION:Online – https://www.youtube.com/@GraceTabernacleOnlineChurch \, CA\, 91367\, United States
CATEGORIES:Sunday Worship Service - Grace Online Church
ATTACH;FMTTYPE=image/jpeg:https://graceonlinechurch.com/wp-content/uploads/2025/03/THEELE1.jpg
END:VEVENT
BEGIN:VEVENT
DTSTART;TZID=America/Los_Angeles:20250302T133000
DTEND;TZID=America/Los_Angeles:20250302T163000
DTSTAMP:20260419T160949
CREATED:20250302T015655Z
LAST-MODIFIED:20250302T015655Z
UID:2520-1740922200-1740933000@graceonlinechurch.com
SUMMARY:Join Us In Person or Online for Transformation Sunday at Stanford Memorial Church! Guest Speaker\, Reverend Adrienne L. Jackson
DESCRIPTION:We invite you to a powerful and uplifting Black Church Praise & Worship Service at Stanford Memorial Church for Transformation Sunday! \n📅 Date: March 2\, 2025⏰ Time: 1:30 PM PT📍 Location: 450 Jane Stanford Way\, Stanford\, CA 94305 \nThis special service will feature an inspiring message from our esteemed Guest Speaker\, Reverend Adrienne L. Jackson. Don’t miss this opportunity to come together in faith\, worship\, and celebration! \nJoin Us In Person or Online\nIf you can’t attend in person\, watch the service live online:📺 YouTube: @StanfordORSL🔗 Event Link: https://events.stanford.edu \nLet’s gather as a community to worship\, reflect\, and experience transformation together. Bring your family and friends for a Sunday filled with faith\, music\, and fellowship. \nBlessings\,Grace Tabernacle
URL:https://graceonlinechurch.com/event/join-us-in-person-or-online-for-transformation-sunday-at-stanford-memorial-church-guest-speaker-reverend-adrienne-l-jackson/
LOCATION:Stanford Memorial Church\, 450 Jane Stanford Way\, Stanford\, CA\, 94305\, United States
CATEGORIES:Sunday Worship Service - Grace Online Church
ATTACH;FMTTYPE=image/jpeg:https://graceonlinechurch.com/wp-content/uploads/2025/03/Black-church-Reverend-Adrienne-Jackson.jpg
END:VEVENT
BEGIN:VEVENT
DTSTART;TZID=America/Los_Angeles:20250302T100000
DTEND;TZID=America/Los_Angeles:20250304T120000
DTSTAMP:20260419T160949
CREATED:20250228T183857Z
LAST-MODIFIED:20250302T072612Z
UID:2493-1740909600-1741089600@graceonlinechurch.com
SUMMARY:THE ELEPHANT IN THE CHURCH HOUSE - I AM A SURVIVOR AND MY ENEMY IS UNDER MY FEET
DESCRIPTION:For too long\, the church has stayed silent about the pain sitting right in its pews. But silence doesn’t heal—truth does. Restoration does. God does. \nThis Women’s History Month\, we are confronting the elephant in the church house—the difficult conversations that need to be had\, the healing that needs to take place\, and the power of faith\, forgiveness\, and resilience. \nJoin Bishop Ernest Jackson as we dive into Tamar’s story (2 Samuel 13)—a story of deep pain\, but also one that reveals God’s promise of healing\, justice\, and restoration. \nThis isn’t about shame. This is about victory. About forgiveness. About stepping into the freedom God has promised you. \n🙌 No wound is too deep for God to heal. No past is too broken for Him to restore. \n\nEvent Details:\n\nDate and Time: This Sunday\, at 10:00 AM PST\nPlatform: YouTube: @GraceTabernacleOnlineChurch\n\n\n\n\n  \n\nDon’t miss out—subscribe now to our YouTube channel and hit the bell so you’ll never miss a life-changing message! https://www.youtube.com/@GraceTabernacleOnlineChurch \n\n🔴 Subscribe to our newsletter to stay updated on future events\, messages\, and more: www.graceonlinechurch.com \n\nLet’s Walk in Victory Together!\nJoin us this Sunday as we dive into the biblical principles of Healing and Forgiveness. Whether you’re struggling with trauma or you need strength to forgive\, this service will inspire and empower you to rise above.
URL:https://graceonlinechurch.com/event/the-elephant-in-the-church-house/
LOCATION:Online – https://www.youtube.com/@GraceTabernacleOnlineChurch \, CA\, 91367\, United States
CATEGORIES:Sunday Worship Service - Grace Online Church
ATTACH;FMTTYPE=image/jpeg:https://graceonlinechurch.com/wp-content/uploads/2025/02/GRACE-ONLINE-CHURCH-SUNDAY-SERVICE-BISHOP-ERNEST-JACKSON-The-Elephant-in-the-Church-House-.jpg
END:VEVENT
BEGIN:VEVENT
DTSTART;TZID=UTC:20250223T100000
DTEND;TZID=UTC:20250223T120000
DTSTAMP:20260419T160949
CREATED:20250223T042239Z
LAST-MODIFIED:20250223T042250Z
UID:2483-1740304800-1740312000@graceonlinechurch.com
SUMMARY:Live Sermon: Love is the Key to Forgiveness – Sunday at 10 AM PST
DESCRIPTION:Join us this Sunday at 10:00 AM PST for our weekly live sermon at Grace Online Church with Bishop Ernest Jackson. This powerful message\, “Love is the Key to Forgiveness\,” explores how love and faith can heal\, restore\, and strengthen our spiritual journey. \n📅 Date: Sunday\n⏰ Time: 10:00 AM PST\n📍 Watch Live on YouTube: [Insert Link] \n✨ What to Expect:\n✅ Inspiring sermon on faith and forgiveness\n✅ Powerful worship & praise\n✅ Real-life testimonies of transformation\n✅ Black entrepreneurs’ success stories \n🔔 Set a Reminder & Subscribe to our YouTube channel for uplifting messages! \n💬 How has forgiveness changed your life? Share your testimony in the comments during the live stream! \n🙏 Sow a Seed of Faith: Donate Here \n📩 Stay Connected:\n🌐 www.GraceOnlineChurch.com\n📘 Facebook | 📸 Instagram | 🎥 YouTube \nWe look forward to worshiping with you! 🙌
URL:https://graceonlinechurch.com/event/live-sermon-love-is-the-key-to-forgiveness/
LOCATION:Online – https://www.youtube.com/@GraceTabernacleOnlineChurch \, CA\, 91367\, United States
CATEGORIES:Sunday Worship Service - Grace Online Church
ATTACH;FMTTYPE=image/jpeg:https://graceonlinechurch.com/wp-content/uploads/2025/02/love-is-the-key-to-forgiveness-bishop-ernest-jackson-www.graceonlinechurch.com-Live-Sunday-Sermon-2232025-at-1000am-pst-on-youtubewww.graceonlinechurch.com-live-Sermon-–-Sunday-Feb-16-2025-at.jpg
END:VEVENT
BEGIN:VEVENT
DTSTART;TZID=UTC:20250216T103000
DTEND;TZID=UTC:20250216T120000
DTSTAMP:20260419T160949
CREATED:20250218T063514Z
LAST-MODIFIED:20250218T063612Z
UID:2452-1739701800-1739707200@graceonlinechurch.com
SUMMARY:Grace Online Church Presents: Black History Month Celebration & Victorious Living Sermon - Sermon Topic: "So What? The Battle Cry of Victory"
DESCRIPTION:As we honor Black History Month\, Grace Online Church\, led by Bishop Ernest L. Jackson\, presents a deeply moving and faith-filled service dedicated to strength\, resilience\, and victory through Christ. This special online service features an uplifting introduction by Maya and Jaden\, powerful worship music\, and an inspiring sermon centered on living victoriously despite life’s challenges. \nCurated by Chayil Hinton\, this celebration reflects on the legacy of faith and perseverance in the Black community\, with a tribute to trailblazers like Mary Jackson\, NASA’s first Black female engineer\, and other historic figures who paved the way for future generations. \nSermon Topic: “So What? The Battle Cry of Victory”\nIn this empowering sermon\, Bishop Ernest L. Jackson reminds us that no matter the trials we face\, we are more than conquerors through Christ. Drawing from Romans 8:31\, he challenges believers to stand firm in faith\, declaring “So What!” when obstacles arise\, knowing that God has already secured our victory. \nKey Scriptures from the Sermon:\n📖 2 Corinthians 4:8-9 – “We are hard-pressed on every side\, but not crushed…”📖 Romans 8:31 – “If God is for us\, who can be against us?”📖 Romans 8:37-39 – “We are more than conquerors through Him who loved us.” \nWorship and Celebration\nThe service includes soul-stirring music and worship\, featuring:🎶 Opening Worship: “We Will Fight and We Will Win”🎶 Special Performance: “Someday We’ll All Be Free”🎶 Closing Worship: “Jesus You Love Me Too Much” \nThis powerful time of worship and reflection reminds us that faith has always been at the heart of Black history\, and through God’s strength\, we continue to rise and overcome. \nClosing Prayer & Reflection\nThe service concludes with a prayer and benediction by Adrienne Jackson\, encouraging believers to walk boldly in faith and embrace the victorious life God has prepared for them. \nHow to Watch the Full Service\n📺 Watch the full sermon on YouTube ➡️ \n\n\n\n\nStay Connected & Support the Ministry\n🙏 Subscribe to our newsletter to receive weekly encouragement\, sermon updates\, and devotionals ➡️ www.graceonlinechurch.com \n💙 Support the mission and help us continue spreading God’s word! Every contribution helps us reach more people and change lives ➡️ www.graceonlinechurch.com/donation \n📢 Join the Conversation!What was your biggest takeaway from today’s sermon? Comment below and let’s uplift one another in faith! \n\nFinal Thoughts\nBlack History Month is a time of reflection\, celebration\, and faith\, and this powerful sermon from Bishop Ernest L. Jackson reminds us that our past\, present\, and future are rooted in God’s promises. No matter what comes our way\, we can declare victory and walk boldly in faith. \n🙌 Let’s continue to celebrate\, worship\, and grow together in Christ!
URL:https://graceonlinechurch.com/event/black-history-month/
LOCATION:Online – https://www.youtube.com/@GraceTabernacleOnlineChurch \, CA\, 91367\, United States
CATEGORIES:Sunday Worship Service - Grace Online Church
ATTACH;FMTTYPE=image/jpeg:https://graceonlinechurch.com/wp-content/uploads/2025/02/so-what-the-battle-cry-of-victory-bishop-ernest-jackson-www.graceonlinechurch.com-live-Sermon-–-Sunday-Feb-16-2025-at-10-AM-PST.jpg
END:VEVENT
BEGIN:VEVENT
DTSTART;TZID=UTC:20250209T100000
DTEND;TZID=UTC:20250209T230000
DTSTAMP:20260419T160949
CREATED:20250209T065620Z
LAST-MODIFIED:20250209T065635Z
UID:2386-1739095200-1739142000@graceonlinechurch.com
SUMMARY:The Pressure Cooker of Unforgiveness–Sunday Live Sermon - Grace Online Church - Bishop Ernest Jackson
DESCRIPTION:Bishop Ernest Jackson of Grace Online Church invites you to a powerful Sunday sermon that will set you free!\n📅 Join us –  Watch the full sermon \n \n🙏 Like\, Share\, and Subscribe for more messages that will uplift and strengthen your faith! \n  \n🔥 What to Expect in the Full Sermon:\n✔️ How unforgiveness traps you spiritually and emotionally.\n✔️ Steps to break free from bitterness and resentment.\n✔️ The power of God’s love to heal and restore your heart. \nDon’t miss this! Set a reminder and tune in for the full message. \n📌 Subscribe to Grace Online Church for more uplifting messages! ‪@GraceTabernacleOnlineChurch‬ \n#GraceOnlineChurch #BishopErnestJackson #Forgiveness \nDonations & Support:\n✨ Support the Ministry:\nYour generosity helps us impact lives and serve our community. Consider giving through:\n🌱 Ways to Give: \nDonation \n\nMail donations to:\nGrace Tabernacle Ministries\nPO Box 24307 San Francisco\, CA 94124 \n🙏 Like\, Share\, and Subscribe for more messages that will uplift and strengthen your faith! \nStay connected with us:\n🌐 Website: www.GraceOnlineChurch.com\n📧 Prayer Requests: GraceOnlineChurch.com\n🎥 🔔 Don’t forget to like\, comment\, and subscribe to stay updated with future\nsermons and community outreach efforts.
URL:https://graceonlinechurch.com/event/the-pressure-cooker-of-unforgiveness-sunday-live-sermon-grace-online-church-bishop-ernest-jackson/
LOCATION:Online – https://www.youtube.com/@GraceTabernacleOnlineChurch \, CA\, 91367\, United States
CATEGORIES:Sunday Worship Service - Grace Online Church
ATTACH;FMTTYPE=image/jpeg:https://graceonlinechurch.com/wp-content/uploads/2025/02/benedictions-of-christmas-bishop-ernest-jackson-www.graceonlinechurch.com-live-Sermon-–-Sunday-Feb-2-2025-at-10-AM-PST-1.jpg
END:VEVENT
BEGIN:VEVENT
DTSTART;TZID=UTC:20250202T100000
DTEND;TZID=UTC:20250202T110000
DTSTAMP:20260419T160949
CREATED:20250202T075843Z
LAST-MODIFIED:20250202T182926Z
UID:2201-1738490400-1738494000@graceonlinechurch.com
SUMMARY:Join Us LIVE! Grace Online Church Sermon – "Resolved to Forgive"
DESCRIPTION:📅 Date: Sunday\, February 2\, 2025\n🕙 Time: 10 AM PST\n📍 Where: Live on YouTube –  https://www.youtube.com/watch?v=WS_Tpg3tcIw  \nAre you struggling with forgiveness and letting go of past hurts? Join Bishop Ernest Jackson for an inspiring live sermon\, “Resolved to Forgive\,” as we explore how God’s grace helps us release resentment\, heal emotional wounds\, and experience true freedom. \n\n✨ Why You Should Attend\nForgiveness is one of the most powerful yet challenging aspects of faith. Holding onto grudges and pain can block God’s blessings and keep us stuck. In this sermon\, Bishop Jackson will teach: \n✅ The Power of Forgiveness – Why letting go is essential for spiritual freedom\n✅ Biblical Examples of Forgiveness – From Joseph’s trials to Jesus’ ultimate sacrifice\n✅ Steps to Releasing Pain – How to truly forgive\, heal\, and move forward\n✅ How Unforgiveness Blocks Your Blessings – Breaking spiritual barriers\n✅ A Special Prayer for Healing – Experience peace through faith \n\n📖 Key Bible Verses\n✔️ Genesis 50:20 – “You intended to harm me\, but God intended it for good.”\n✔️ Luke 23:34 – “Father\, forgive them\, for they know not what they do.”\n✔️ Mark 11:25 – “When you stand praying\, forgive\, so that your Father in Heaven may forgive you.”\n✔️ Proverbs 17:9 – “Whoever forgives an offense promotes love…” \n\n🎶 Worship & Music\nPrepare your heart with the moving song “A Heart That Forgives\,” a reminder of God’s mercy and love. \n\n⏳ How to Join the Live Sermon\n🔹 Set Your Alarm ⏰ – Sunday\, Feb 2\, 2025\, at 10 AM PST\n🔹 Watch LIVE on YouTube – [Insert YouTube Link]\n🔹 Engage with Us! Drop your prayer requests in the chat – We’d love to pray for you.\n🔹 Invite a Friend! Share this message with someone who needs encouragement. \n\n📅 Upcoming Events at Grace Online Church\n📖 Wednesday Bible Study – 6 PM PST | Book: “The Power of Vision” by Myles Munroe\n🙏 Friday Morning Prayer – 6 AM PST | 9 AM EST \n💌 Stay Connected: Follow us on social media & subscribe to our newsletter for faith-filled content. \n📌 Don’t miss this life-changing message! See you LIVE this Sunday!
URL:https://graceonlinechurch.com/event/gracechurch-sermon-forgive-2025/
LOCATION:Online – https://www.youtube.com/@GraceTabernacleOnlineChurch \, CA\, 91367\, United States
CATEGORIES:Bible Studies,Sunday Worship Service - Grace Online Church
ATTACH;FMTTYPE=image/jpeg:https://graceonlinechurch.com/wp-content/uploads/2025/02/Still-Holding-On-Its-Time-to-Forgive-bishop-ernest-jackson-www.graceonlinechurch.com-live-Sermon-–-Sunday-Feb-2-2025-at-10-AM-PST-3.jpg
END:VEVENT
BEGIN:VEVENT
DTSTART;TZID=UTC:20250105T100000
DTEND;TZID=UTC:20250105T101500
DTSTAMP:20260419T160949
CREATED:20250105T201448Z
LAST-MODIFIED:20250105T201448Z
UID:1200-1736071200-1736072100@graceonlinechurch.com
SUMMARY:2025: Committed and Resolved to Win
DESCRIPTION:Join Grace Online Church as we step into 2025 with faith\, prayer\, and fasting. Bishop Ernest Jackson delivers a powerful message\, calling us to stay committed and resolved to walk in God’s purpose and claim victory this year. \n🗓️ 10-Day Fast: January 13th – 22nd\, led by Pastor Howard Lindsay.\n🙏 Experience spiritual growth\, clarity\, and breakthroughs as we seek God together. \n\nKey Takeaways:\n\nCommitment and Resolve – Stay loyal to God’s vision.\nPrayer and Fasting – Unlock divine strength and clarity.\nScriptures to Reflect On:\n\nRomans 8:37 – “We are more than conquerors.”\nMark 1:35 – Jesus prayed in solitude.\n\n\n\n\nGet Involved:\n\nDeepen Your Faith – Prioritize prayer and Bible study.\nJoin the Fast – Align your spirit with God’s plan.\nStay Connected – Engage with our church community.\n\n\n🎥 Watch the Full Sermon on YouTube:\n👉 WATCH NOW \n💖 Support the Ministry:\n👉 DONATE NOW \nLet’s embrace 2025 with unwavering faith and expectation for God’s blessings!
URL:https://graceonlinechurch.com/event/2025-committed-and-resolved-to-win/
LOCATION:Online – https://www.youtube.com/@GraceTabernacleOnlineChurch \, CA\, 91367\, United States
CATEGORIES:Bible Studies,Sunday Worship Service - Grace Online Church
ATTACH;FMTTYPE=image/jpeg:https://graceonlinechurch.com/wp-content/uploads/2025/01/2025-Committed-and-Resolved-to-Win-bishop-ernest-jackson-www.graceonlinechurch.com-sunday-live-sermon-1052025-at-10am-PST.jpg
END:VEVENT
BEGIN:VEVENT
DTSTART;TZID=UTC:20241222T100000
DTEND;TZID=UTC:20241222T100000
DTSTAMP:20260419T160949
CREATED:20241222T054338Z
LAST-MODIFIED:20241222T063116Z
UID:875-1734861600-1734861600@graceonlinechurch.com
SUMMARY:Why We Celebrate - Embracing the Joy of Christ's Birth
DESCRIPTION:Dear Grace Family\, \nTomorrow\, I invite you to join me for a special live sermon on YouTube as we dive into the heart of the Christmas season. This message\, titled “Why We Celebrate – Embracing the Joy of Christ’s Birth”\, will reflect on the timeless story of Jesus’ arrival and why His birth continues to bring hope\, light\, and joy to the world. \nHere’s a glimpse of what you can expect: \n\nExploring the true meaning behind Christmas traditions\nAddressing the critics and embracing the spirit of giving and receiving\nCelebrating the birth of our Savior\, the Messiah\, and what that means for us today\n\nAs we reflect on Luke 2:10-11\, “Do not be afraid. I bring you good news that will cause great joy for all the people. Today in the town of David a Savior has been born to you; he is the Messiah\, the Lord”\, let’s rediscover the joy and significance of Christmas. \nMark your calendar: When: Tomorrow at10:am PST\nWhere: https://www.youtube.com/@GraceTabernacleOnlineChurch\nLet’s celebrate together\, lifting our voices in praise and thanksgiving for the greatest gift of all—Jesus Christ. \nYour support means the world to us. If you feel led to give\, donations can be made through CashApp\, Venmo\, PayPal\, or Givelify by selecting Grace Tabernacle Ministries. You can also mail your gift to: Grace Tabernacle Ministries\, PO Box 24307 San Francisco\, CA 94124 \nMerry Christmas and God bless you! \nBishop Ernest Jackson Grace Online Church
URL:https://graceonlinechurch.com/event/why-we-celebrate-embracing-the-joy-of-christs-birth/
LOCATION:Online – https://www.youtube.com/@GraceTabernacleOnlineChurch \, CA\, 91367\, United States
CATEGORIES:Sunday Worship Service - Grace Online Church
ATTACH;FMTTYPE=image/jpeg:https://graceonlinechurch.com/wp-content/uploads/2024/12/Why-We-Celebrate-Christmas-Embracing-the-Joy-of-Christs-Birth-bishop-ernest-jackson-www.graceonlinechurch.com-sunday-live-sermon-12222024-at-10am-PST.jpg
END:VEVENT
BEGIN:VEVENT
DTSTART;TZID=UTC:20241215T100000
DTEND;TZID=UTC:20241215T221000
DTSTAMP:20260419T160949
CREATED:20241214T211623Z
LAST-MODIFIED:20241214T211623Z
UID:669-1734256800-1734300600@graceonlinechurch.com
SUMMARY:LIVE Sunday Sermon: The Good Samaritan – Lessons on Compassion and Faith
DESCRIPTION:🌟 What Would You Do If You Saw Someone in Desperate Need? 🌟 \nJoin us at Grace Online Church this Sunday at 10:00 AM (PST) for a live and inspiring sermon by Bishop Ernest Jackson. This week\, we’ll explore the timeless parable of The Good Samaritan (Luke 10:25-37) and uncover how faith calls us to love our neighbors and transform lives through small acts of kindness. \n💡 Why You Should Attend: \n\nDiscover lessons from the Bible about compassion and faith.\nLearn how to apply the teachings of The Good Samaritan in daily life.\nBe inspired to act as Christ’s hands and feet in today’s world.\n\n🎥 Watch LIVE on YouTube:\nClick below to join us:\n👉 https://youtu.be/hrRPIAGsjYw \n\n📅 Event Details: \n\nDate: Sunday\, [12/15/2024]\nTime: 10:00 AM (PST)\nLocation: Online at Grace Online Church (https://graceonlinechurch.com)\n\n\n💬 Spread the Word:\nInvite your friends\, family\, and neighbors to this life-changing event. Save the date\, share the link\, and be part of the Grace Online Church community. \n\nAbout Grace Online Church:\nGrace Online Church is your destination for weekly inspirational sermons\, led by Bishop Ernest Jackson. Whether you’re looking to deepen your faith or find practical guidance for life’s challenges\, our sermons provide hope\, encouragement\, and actionable lessons grounded in scripture. \n\n 
URL:https://graceonlinechurch.com/event/live-sunday-sermon-the-good-samaritan-lessons-on-compassion-and-faith/
LOCATION:Online – https://www.youtube.com/@GraceTabernacleOnlineChurch \, CA\, 91367\, United States
CATEGORIES:Sunday Worship Service - Grace Online Church
ATTACH;FMTTYPE=image/jpeg:https://graceonlinechurch.com/wp-content/uploads/2024/12/bishop-ernest-jackson-sunday-service-at-1000am-www.graceonlinechurch.com-PST-Join-Us-for-Online-Worship-what-would-you-do-the-good-samaritan-story-3.jpg
END:VEVENT
BEGIN:VEVENT
DTSTART;TZID=UTC:20241124T100000
DTEND;TZID=UTC:20241124T120000
DTSTAMP:20260419T160949
CREATED:20241121T020519Z
LAST-MODIFIED:20241121T020520Z
UID:470-1732442400-1732449600@graceonlinechurch.com
SUMMARY:God Is Omnipresent: Sunday Worship with Bishop Ernest Jackson
DESCRIPTION:Join us for an inspiring Sunday worship service with Bishop Ernest Jackson\, titled ‘God Is Omnipresent.’ Reflect on the ever-present nature of God and how He transcends all boundaries. Be part of this powerful online experience at Grace Online Church.
URL:https://graceonlinechurch.com/event/god-is-omnipresent-sunday-worship-with-bishop-ernest-jackson/
LOCATION:Online – https://www.youtube.com/@GraceTabernacleOnlineChurch \, CA\, 91367\, United States
CATEGORIES:Sunday Worship Service - Grace Online Church
ATTACH;FMTTYPE=image/jpeg:https://graceonlinechurch.com/wp-content/uploads/2024/11/Omnipresent-God-is-bishop-ernerst-jackson-11.24.2024-at-1000am-www.graceonlinechurch.com-PST-Join-Us-for-Online-WorshipThumbnail-3.jpg
END:VEVENT
END:VCALENDAR