BEGIN:VCALENDAR
VERSION:2.0
PRODID:-//Grace Online Church  - ECPv6.15.20//NONSGML v1.0//EN
CALSCALE:GREGORIAN
METHOD:PUBLISH
X-ORIGINAL-URL:https://graceonlinechurch.com
X-WR-CALDESC:Events for Grace Online Church 
REFRESH-INTERVAL;VALUE=DURATION:PT1H
X-Robots-Tag:noindex
X-PUBLISHED-TTL:PT1H
BEGIN:VTIMEZONE
TZID:UTC
BEGIN:STANDARD
TZOFFSETFROM:+0000
TZOFFSETTO:+0000
TZNAME:UTC
DTSTART:20240101T000000
END:STANDARD
END:VTIMEZONE
BEGIN:VEVENT
DTSTART;TZID=UTC:20250817T100000
DTEND;TZID=UTC:20250817T110000
DTSTAMP:20260419T125642
CREATED:20250816T223109Z
LAST-MODIFIED:20250816T223848Z
UID:3334-1755424800-1755428400@graceonlinechurch.com
SUMMARY:Sunday Live Service – The Christian Mandate in the Midst of Conflict | Grace Online Church
DESCRIPTION:Watch Live on YouTube: Grace Tabernacle Online Church \nJoin us this Sunday for a powerful time of worship\, teaching\, and encouragement. Together\, we will lift up the name of Jesus and be reminded of the strength and peace we find in Him\, even in challenging times. \nService Order\nPreshow with Jaden and MayaStart your Sunday with our uplifting preshow video.Watch Here \nPraise and WorshipSong: My Worship – Phil Thompson \nWord of God – Sermon by Bishop Ernest JacksonMessage Title: The Christian Mandate in The Midst of ConflictPrepare to be inspired and challenged by this week’s message.Watch the Sermon \nPraise and Worship (Part 2)Song: How Great Is Our God – Paul Morton \nGrace Telegram \nThank you for being part of Grace Online Church. Your prayers\, presence\, and participation make all the difference.
URL:https://graceonlinechurch.com/event/the-christian-mandate-in-the-midst-of-conflict/
LOCATION:Online – https://www.youtube.com/@GraceTabernacleOnlineChurch \, CA\, 91367\, United States
CATEGORIES:Sunday Worship Service - Grace Online Church
ATTACH;FMTTYPE=image/jpeg:https://graceonlinechurch.com/wp-content/uploads/2025/08/The-Christian-Mandate-in-The-Midst-of-Conflict-Sunday-Live-Service-grace-online-church.jpg
END:VEVENT
END:VCALENDAR