BEGIN:VCALENDAR
VERSION:2.0
PRODID:-//Grace Online Church  - ECPv6.15.20//NONSGML v1.0//EN
CALSCALE:GREGORIAN
METHOD:PUBLISH
X-ORIGINAL-URL:https://graceonlinechurch.com
X-WR-CALDESC:Events for Grace Online Church 
REFRESH-INTERVAL;VALUE=DURATION:PT1H
X-Robots-Tag:noindex
X-PUBLISHED-TTL:PT1H
BEGIN:VTIMEZONE
TZID:UTC
BEGIN:STANDARD
TZOFFSETFROM:+0000
TZOFFSETTO:+0000
TZNAME:UTC
DTSTART:20240101T000000
END:STANDARD
END:VTIMEZONE
BEGIN:VEVENT
DTSTART;TZID=UTC:20250803T100000
DTEND;TZID=UTC:20250803T230000
DTSTAMP:20260419T125349
CREATED:20250803T042857Z
LAST-MODIFIED:20250803T042951Z
UID:3302-1754215200-1754262000@graceonlinechurch.com
SUMMARY:The Spirit of Amalek: A Christian Enigma
DESCRIPTION:Powerful New Sermon from Bishop Ernest JacksonTitle: “The Spirit of Amalek: A Christian Enigma”📅 Event Date: Sunday\, August 4\, 2025🕙 Time: 10:00 AM (PST)📍 Watch Live on YouTube: Grace Tabernacle Online Church \n\nIn this bold and timely message\, Bishop Ernest Jackson delivers a sermon titled: “The Spirit of Amalek: A Christian Enigma” — a message that touches deeply on the spiritual and humanitarian crisis in Gaza. \n\n“The same God who commands us to love our enemies (Matthew 5:44) also ordered the destruction of Amalek (1 Samuel 15:1–3). This isn’t a contradiction—it’s a mystery of divine justice and mercy that finds resolution only in Christ.” – Bishop Ernest Jackson \n \n\nWith compassion and conviction\, Bishop Jackson urges the Church to acknowledge the pain and complexity of the Israel-Palestinian conflict. He emphasizes that: \n\n\nWe must weep for the innocent\, especially Palestinian civilians caught in a war they did not start. \n\n\nWe must not misuse Scripture to justify genocide. \n\n\nWe must approach the issue with justice\, mercy\, and humility. \n\n\nWe must never forget the spiritual history behind the Spirit of Amalek—and how it challenges us today. \n\n\n \n📖 Key Scriptures Referenced: \n\n\nExodus 17:13–15 \n\n\n1 Samuel 15:1–3 \n\n\nMatthew 5:44 \n\n\nDeuteronomy 25:17–19 \n\n\n\n“Does Israel’s right to define itself give it the right to kill innocent Palestinians to abate the spirit of Amalek?” \n\nThis sermon calls for deep reflection\, honest faith\, and unwavering compassion. \n \n\n🎥 Join us live this Sunday at 10AM PST📺 Watch on YouTube: Grace Tabernacle Online Church📖 Bring your Bible👥 Invite a friend💗 Come with an open heart \n\n🙏 Support Our MissionTo give: Visit www.graceonlinechurch.com
URL:https://graceonlinechurch.com/event/the-spirit-of-amalek-a-christian-enigma/
LOCATION:Online – https://www.youtube.com/@GraceTabernacleOnlineChurch \, CA\, 91367\, United States
CATEGORIES:Sunday Worship Service - Grace Online Church
ATTACH;FMTTYPE=image/jpeg:https://graceonlinechurch.com/wp-content/uploads/2025/08/BThe-Spirit-of-Amalek-A-Christian-Enigma-All-Are-Welcome-–-Lets-Learn-and-Grow-Together-in-Unity-bishop-ernest-jackson-AUGUST-3rd-10AM-PST-Sunday-Live-Service-www.graceonlinechurch.com-Sunda.jpg
END:VEVENT
END:VCALENDAR