BEGIN:VCALENDAR
VERSION:2.0
PRODID:-//Grace Online Church  - ECPv6.15.20//NONSGML v1.0//EN
CALSCALE:GREGORIAN
METHOD:PUBLISH
X-ORIGINAL-URL:https://graceonlinechurch.com
X-WR-CALDESC:Events for Grace Online Church 
REFRESH-INTERVAL;VALUE=DURATION:PT1H
X-Robots-Tag:noindex
X-PUBLISHED-TTL:PT1H
BEGIN:VTIMEZONE
TZID:America/Los_Angeles
BEGIN:DAYLIGHT
TZOFFSETFROM:-0800
TZOFFSETTO:-0700
TZNAME:PDT
DTSTART:20240310T100000
END:DAYLIGHT
BEGIN:STANDARD
TZOFFSETFROM:-0700
TZOFFSETTO:-0800
TZNAME:PST
DTSTART:20241103T090000
END:STANDARD
BEGIN:DAYLIGHT
TZOFFSETFROM:-0800
TZOFFSETTO:-0700
TZNAME:PDT
DTSTART:20250309T100000
END:DAYLIGHT
BEGIN:STANDARD
TZOFFSETFROM:-0700
TZOFFSETTO:-0800
TZNAME:PST
DTSTART:20251102T090000
END:STANDARD
BEGIN:DAYLIGHT
TZOFFSETFROM:-0800
TZOFFSETTO:-0700
TZNAME:PDT
DTSTART:20260308T100000
END:DAYLIGHT
BEGIN:STANDARD
TZOFFSETFROM:-0700
TZOFFSETTO:-0800
TZNAME:PST
DTSTART:20261101T090000
END:STANDARD
END:VTIMEZONE
BEGIN:VEVENT
DTSTART;TZID=America/Los_Angeles:20250727T100000
DTEND;TZID=America/Los_Angeles:20250727T110000
DTSTAMP:20260419T142111
CREATED:20250727T053622Z
LAST-MODIFIED:20250727T053622Z
UID:3279-1753610400-1753614000@graceonlinechurch.com
SUMMARY:📍 Be Still and Trust God – Live Sunday Service with Bishop Ernest Jackson
DESCRIPTION:Sunday\, July 27 | 10:00 AM PST \nLocation:LIVE on YouTube + www.GraceOnlineChurch.com📺 Watch here \nJoin us for a powerful live message this Sunday from Bishop Ernest Jackson titled: \n\n“Be Still and Trust God” \n\nIn this timely word\, Bishop Jackson addresses the spiritual confusion and media noise affecting believers today. He’ll share how to recognize God’s voice\, resist fear\, and return to stillness and truth. \nWhether you’re overwhelmed by the news\, unsure who to trust\, or simply seeking spiritual grounding—you need to hear this message. \n🎯 Key Topics Include: \n\n\nSpiritual discernment in a world full of lies \n\n\nWhy “truth” on social media and TV isn’t always God’s truth \n\n\nHow to guard your heart and walk in peace \n\n\nReclaiming stillness in God’s presence \n\n\n🔴 Watch Live:\n🕙 Sunday\, July 27 – 10:00 AM PST📍 Click here to watch on YouTube \nAll are welcome. Let’s grow and stand together in faith.
URL:https://graceonlinechurch.com/event/be-still-and-trust-god-live-sunday-service/
LOCATION:Online – https://www.youtube.com/@GraceTabernacleOnlineChurch \, CA\, 91367\, United States
CATEGORIES:Sunday Worship Service - Grace Online Church
ATTACH;FMTTYPE=image/jpeg:https://graceonlinechurch.com/wp-content/uploads/2025/07/Be-Still-and-Trust-God-All-Are-Welcome-–-Lets-Learn-and-Grow-Together-in-Unity-bishop-ernest-jackson-july-27-10AM-PST-www.graceonlinechurch.com-Sunday-Live-Service.jpg
END:VEVENT
END:VCALENDAR