BEGIN:VCALENDAR
VERSION:2.0
PRODID:-//Grace Online Church  - ECPv6.15.20//NONSGML v1.0//EN
CALSCALE:GREGORIAN
METHOD:PUBLISH
X-WR-CALNAME:Grace Online Church 
X-ORIGINAL-URL:https://graceonlinechurch.com
X-WR-CALDESC:Events for Grace Online Church 
REFRESH-INTERVAL;VALUE=DURATION:PT1H
X-Robots-Tag:noindex
X-PUBLISHED-TTL:PT1H
BEGIN:VTIMEZONE
TZID:UTC
BEGIN:STANDARD
TZOFFSETFROM:+0000
TZOFFSETTO:+0000
TZNAME:UTC
DTSTART:20240101T000000
END:STANDARD
END:VTIMEZONE
BEGIN:VEVENT
DTSTART;TZID=UTC:20250720T100000
DTEND;TZID=UTC:20250720T110000
DTSTAMP:20260419T142226
CREATED:20250720T004548Z
LAST-MODIFIED:20250720T004632Z
UID:3240-1753005600-1753009200@graceonlinechurch.com
SUMMARY:Sunday Service – Bishop T.J. McBride: “It’s a New Season – We’re Moving Forward”
DESCRIPTION:Join us for a prophetic Sunday experience with Bishop T.J. McBride as he delivers a life-changing message:“It’s a New Season – We’re Moving Forward!” \nDiscover how to break free from your past\, renew your mind\, and walk boldly in your God-given destiny.🔔 Subscribe & Watch Live: Grace Tabernacle Online Church on YouTube
URL:https://graceonlinechurch.com/event/sunday-service-bishop-t-j-mcbride-its-a-new-season-were-moving-forward/
LOCATION:Online – https://www.youtube.com/@GraceTabernacleOnlineChurch \, CA\, 91367\, United States
CATEGORIES:Sunday Worship Service - Grace Online Church
ATTACH;FMTTYPE=image/jpeg:https://graceonlinechurch.com/wp-content/uploads/2025/07/BISHOP-TJ-MC-BRIDE.jpg
END:VEVENT
END:VCALENDAR