BEGIN:VCALENDAR
VERSION:2.0
PRODID:-//Grace Online Church  - ECPv6.15.20//NONSGML v1.0//EN
CALSCALE:GREGORIAN
METHOD:PUBLISH
X-WR-CALNAME:Grace Online Church 
X-ORIGINAL-URL:https://graceonlinechurch.com
X-WR-CALDESC:Events for Grace Online Church 
REFRESH-INTERVAL;VALUE=DURATION:PT1H
X-Robots-Tag:noindex
X-PUBLISHED-TTL:PT1H
BEGIN:VTIMEZONE
TZID:UTC
BEGIN:STANDARD
TZOFFSETFROM:+0000
TZOFFSETTO:+0000
TZNAME:UTC
DTSTART:20240101T000000
END:STANDARD
END:VTIMEZONE
BEGIN:VEVENT
DTSTART;TZID=UTC:20250713T100000
DTEND;TZID=UTC:20250713T230000
DTSTAMP:20260419T142324
CREATED:20250714T213006Z
LAST-MODIFIED:20250714T213006Z
UID:3227-1752400800-1752447600@graceonlinechurch.com
SUMMARY:“The Danger of Anger” Part 3 – Pastor Jamie Hawkins
DESCRIPTION:Anger is real. It’s raw. It’s human.\nBut if we’re not careful\, it can rob us—of peace\, of purpose\, and of the life God intended for us. \n\n\n\nIn Part 3 of our transformational series\, Pastor Jamie Hawkins delivers a timely and soul-stirring message on the difference between righteous anger and destructive anger—and how to surrender it to God before it destroys what we love most. \n💔 Still wrestling with forgiveness?\n💭 Fighting bitterness in silence?\n💥 Tired of lashing out and feeling distant from God? \nYou’re not alone. And you don’t have to stay stuck.\nThere is healing for your heart. There is peace beyond your pain. \nYouTube player\n💒 Join Us This Sunday at Grace Online Church\nExperience a heart-shifting\, spirit-lifting encounter with God. From Maya’s pre-service encouragement to worship that will touch your soul\, this isn’t just another livestream—it’s a divine appointment. \n✨ Let God restore what anger tried to destroy. \n📍 Subscribe and turn on the 🔔 so you never miss a message.\n🕊️ God has something good for you—today. \n🌐 Stay Connected:\n🖥️ www.graceonlinechurch.com\n📧 Need prayer? Want to grow with us? Reach out today. \n📅 Weekly Gatherings on Zoom (ID: 415.822.9566):\nWednesdays @ 6 PM PT / 9 PM ET – *\nTagged Grace Online Church\, sunday sermon\, Sunday Service
URL:https://graceonlinechurch.com/event/the-danger-of-anger-part-3-pastor-jamie-hawkins/
LOCATION:Online – https://www.youtube.com/@GraceTabernacleOnlineChurch \, CA\, 91367\, United States
CATEGORIES:Sunday Worship Service - Grace Online Church
ATTACH;FMTTYPE=image/jpeg:https://graceonlinechurch.com/wp-content/uploads/2025/07/the-danger-of-anger-part-2-Pastor-Jamie-Hawkins-2.jpg
END:VEVENT
END:VCALENDAR