BEGIN:VCALENDAR
VERSION:2.0
PRODID:-//Grace Online Church  - ECPv6.15.20//NONSGML v1.0//EN
CALSCALE:GREGORIAN
METHOD:PUBLISH
X-WR-CALNAME:Grace Online Church 
X-ORIGINAL-URL:https://graceonlinechurch.com
X-WR-CALDESC:Events for Grace Online Church 
REFRESH-INTERVAL;VALUE=DURATION:PT1H
X-Robots-Tag:noindex
X-PUBLISHED-TTL:PT1H
BEGIN:VTIMEZONE
TZID:UTC
BEGIN:STANDARD
TZOFFSETFROM:+0000
TZOFFSETTO:+0000
TZNAME:UTC
DTSTART:20240101T000000
END:STANDARD
END:VTIMEZONE
BEGIN:VEVENT
DTSTART;TZID=UTC:20250706T100000
DTEND;TZID=UTC:20250706T110000
DTSTAMP:20260419T142227
CREATED:20250706T034821Z
LAST-MODIFIED:20250706T034821Z
UID:3208-1751796000-1751799600@graceonlinechurch.com
SUMMARY:TOMORROW at 10AM PST\, Pastor Jamie continues with“The Danger of Anger – Part 2” — and trust us\, you do NOT want to miss this.
DESCRIPTION:What if the anger you’ve buried… is the very thing holding you back?\n\n\nWe all carry things we were never meant to hold—old offenses\, silent grudges\, words that wounded us. Maybe you’ve tucked it away. Maybe you’ve told yourself it doesn’t matter. But deep down… it still stings. \nThat’s why this Sunday’s message is different. \n\n“The Danger of Anger – Part 2” | With Pastor Jamie Hawkins\n🗓️ TOMORROW at 10AM PST\n📍 Streaming LIVE on YouTube\nwww.youtube.com/@GraceTabernacleOnlineChurch \n\nIn this powerful continuation of last week’s message\, Pastor Jamie Hawkins dives even deeper into Matthew 5:21–26—a passage where Jesus takes anger beyond outward action… and exposes it as a heart condition. \n“You have heard that it was said… ‘You shall not murder\,’ but I tell you anyone who is angry with a brother or sister will be subject to judgment.”\n— Matthew 5:21–22 (NIV) \nJesus wasn’t just talking about murder.\nHe was talking about the slow\, silent destruction anger causes within.\nAnd He wasn’t just warning us… He was inviting us into freedom. \n\nWhy This Message Matters\nThis isn’t just a sermon—it’s a call to let go. \nIf you’ve been: \n\nStruggling with unforgiveness\nWrestling with hidden bitterness\nFeeling stuck in your spiritual walk\nCarrying wounds from the past you can’t talk about…\n\nThen this message is for you. \n🎙️ You’ll also hear a powerful pre-service reflection from Maya and Jaden\, plus worship that softens the heart before the Word even begins. It’s a full online worship experience designed to help you release\, reconnect\, and renew. \n\nDon’t Miss This Moment\n✨ This might be the Sunday that shifts everything. \n✅ Subscribe now + click the bell so you don’t miss the premiere:\n👉 Watch here on YouTube \n💬 And don’t just watch—drop a comment\, let us know where you’re watching from\, and share what speaks to your heart. We read every message and would love to connect with you. \nSomeone’s freedom starts with this word.\nCould it be yours?
URL:https://graceonlinechurch.com/event/the-danger-of-anger-part-2/
LOCATION:Online – https://www.youtube.com/@GraceTabernacleOnlineChurch \, CA\, 91367\, United States
CATEGORIES:Sunday Worship Service - Grace Online Church
ATTACH;FMTTYPE=image/jpeg:https://graceonlinechurch.com/wp-content/uploads/2025/07/the-danger-of-anger-part-2-Pastor-Jamie-Hawkins-.jpg
END:VEVENT
END:VCALENDAR