BEGIN:VCALENDAR
VERSION:2.0
PRODID:-//Grace Online Church  - ECPv6.15.20//NONSGML v1.0//EN
CALSCALE:GREGORIAN
METHOD:PUBLISH
X-WR-CALNAME:Grace Online Church 
X-ORIGINAL-URL:https://graceonlinechurch.com
X-WR-CALDESC:Events for Grace Online Church 
REFRESH-INTERVAL;VALUE=DURATION:PT1H
X-Robots-Tag:noindex
X-PUBLISHED-TTL:PT1H
BEGIN:VTIMEZONE
TZID:America/Los_Angeles
BEGIN:DAYLIGHT
TZOFFSETFROM:-0800
TZOFFSETTO:-0700
TZNAME:PDT
DTSTART:20240310T100000
END:DAYLIGHT
BEGIN:STANDARD
TZOFFSETFROM:-0700
TZOFFSETTO:-0800
TZNAME:PST
DTSTART:20241103T090000
END:STANDARD
BEGIN:DAYLIGHT
TZOFFSETFROM:-0800
TZOFFSETTO:-0700
TZNAME:PDT
DTSTART:20250309T100000
END:DAYLIGHT
BEGIN:STANDARD
TZOFFSETFROM:-0700
TZOFFSETTO:-0800
TZNAME:PST
DTSTART:20251102T090000
END:STANDARD
BEGIN:DAYLIGHT
TZOFFSETFROM:-0800
TZOFFSETTO:-0700
TZNAME:PDT
DTSTART:20260308T100000
END:DAYLIGHT
BEGIN:STANDARD
TZOFFSETFROM:-0700
TZOFFSETTO:-0800
TZNAME:PST
DTSTART:20261101T090000
END:STANDARD
END:VTIMEZONE
BEGIN:VEVENT
DTSTART;TZID=America/Los_Angeles:20250629T100000
DTEND;TZID=America/Los_Angeles:20250629T230000
DTSTAMP:20260419T160811
CREATED:20250629T060705Z
LAST-MODIFIED:20250629T060706Z
UID:3199-1751191200-1751238000@graceonlinechurch.com
SUMMARY:🟥 Live Sermon: “The Danger of Anger” – Pastor Jamie Hawkins
DESCRIPTION:Join us for a powerful online service with Pastor Walter Jamie Hawkins\, as he unpacks Matthew 5 in a bold sermon titled: \n“The Danger of Anger: What Jesus Really Meant” \n📖 Explore the deeper meaning behind Jesus’ words: \n\n“Anyone who is angry with a brother or sister will be subject to judgment.” \n\n🕊️ Learn how anger affects your worship\, your heart\, and your relationships. This is more than a sermon—it’s a soul check. \n✅ Bring your Bible✅ Invite a friend✅ Come ready to release and grow \nStream Live at 10AM on YouTubehttps://www.youtube.com/@GraceTabernacleOnlineChurch Subscribe & set your reminder now!
URL:https://graceonlinechurch.com/event/%f0%9f%9f%a5-live-sermon-the-danger-of-anger-pastor-jamie-hawkins/
LOCATION:Online – https://www.youtube.com/@GraceTabernacleOnlineChurch \, CA\, 91367\, United States
CATEGORIES:Sunday Worship Service - Grace Online Church
ATTACH;FMTTYPE=image/jpeg:https://graceonlinechurch.com/wp-content/uploads/2025/06/The-Danger-of-Anger-Pastor-Jamie-Hawkins-Sunday-Service-Live-Grace-online-chruch.jpg
END:VEVENT
END:VCALENDAR