BEGIN:VCALENDAR
VERSION:2.0
PRODID:-//Grace Online Church  - ECPv6.15.20//NONSGML v1.0//EN
CALSCALE:GREGORIAN
METHOD:PUBLISH
X-ORIGINAL-URL:https://graceonlinechurch.com
X-WR-CALDESC:Events for Grace Online Church 
REFRESH-INTERVAL;VALUE=DURATION:PT1H
X-Robots-Tag:noindex
X-PUBLISHED-TTL:PT1H
BEGIN:VTIMEZONE
TZID:UTC
BEGIN:STANDARD
TZOFFSETFROM:+0000
TZOFFSETTO:+0000
TZNAME:UTC
DTSTART:20240101T000000
END:STANDARD
END:VTIMEZONE
BEGIN:VEVENT
DTSTART;TZID=UTC:20250621T080000
DTEND;TZID=UTC:20250621T170000
DTSTAMP:20260419T160948
CREATED:20250621T181941Z
LAST-MODIFIED:20250622T042216Z
UID:3181-1750492800-1750525200@graceonlinechurch.com
SUMMARY:Don’t Miss This Sunday’s Word: “The Church For Such A Time As This”
DESCRIPTION:📅 Upcoming Live Sermon – June 22 at 10 AM PST📍 Location: Online via YouTube Live🎙️ Speaker: Pastor Howard🗣️ Title: The Church For Such A Time As This📖 Scriptures: Micah 6:8\, Luke 6:31 & 6:46\, Matthew 25:31–46📺 Watch Live: https://www.youtube.com/watch?v=sKgeQHl7yfg  \n\nYou’re Invited! \nJoin us this Sunday\, June 22 at 10 AM PST for a powerful online message with Pastor Howard:“The Church For Such A Time As This.” \nIn a time when the world is hurting\, divided\, and searching for hope—what is the Church called to do? Through the lens of Micah 6:8\, Luke 6\, and Matthew 25\, Pastor Howard will guide us to reflect\, realign\, and respond to God’s call for justice\, mercy\, and true discipleship. \n\n✅ Here’s how you can participate: \n\n\nTune in LIVE on YouTube: https://www.youtube.com/watch?v=sKgeQHl7yfg  \n\n\nLike\, Share\, and Subscribe to stay updated and support the ministry \n\n\nInvite a friend—this message is for everyone who feels called to rise and walk in faith \n\n\nLet’s come together as the Body of Christ—for such a time as this.
URL:https://graceonlinechurch.com/event/dont-miss-this-sundays-word-the-church-for-such-a-time-as-this/
LOCATION:Online – https://www.youtube.com/@GraceTabernacleOnlineChurch \, CA\, 91367\, United States
CATEGORIES:Sunday Worship Service - Grace Online Church
ATTACH;FMTTYPE=image/jpeg:https://graceonlinechurch.com/wp-content/uploads/2025/06/The-Church-For-Such-A-Time-As-This-Pastor-Howard-G.-Lindsay-www.graceonlinechurch.com-sunday-live-service-Join-us-LIVE-on-youtube-Sunday-june-22-2025-at-10-AM-PST.jpg
END:VEVENT
END:VCALENDAR