BEGIN:VCALENDAR
VERSION:2.0
PRODID:-//Grace Online Church  - ECPv6.15.20//NONSGML v1.0//EN
CALSCALE:GREGORIAN
METHOD:PUBLISH
X-ORIGINAL-URL:https://graceonlinechurch.com
X-WR-CALDESC:Events for Grace Online Church 
REFRESH-INTERVAL;VALUE=DURATION:PT1H
X-Robots-Tag:noindex
X-PUBLISHED-TTL:PT1H
BEGIN:VTIMEZONE
TZID:UTC
BEGIN:STANDARD
TZOFFSETFROM:+0000
TZOFFSETTO:+0000
TZNAME:UTC
DTSTART:20240101T000000
END:STANDARD
END:VTIMEZONE
BEGIN:VEVENT
DTSTART;TZID=UTC:20250615T100000
DTEND;TZID=UTC:20250615T233000
DTSTAMP:20260419T160556
CREATED:20250614T230845Z
LAST-MODIFIED:20250615T194951Z
UID:3156-1749981600-1750030200@graceonlinechurch.com
SUMMARY:A Good Father: Join Us for a Special Father’s Day Message (LIVE)
DESCRIPTION:Get ready for a beautiful and uplifting message this Father’s Day! 💙 \nWe invite you to join us LIVE this Sunday\, June 15th at 10AM PST for a very special service titled: \n“A Good Father: How God shapes\, restores\, and loves us like no earthly father ever could.” \nIn this powerful sermon\, Maya and Jaden will share heartfelt personal stories and biblical teaching that remind us of the true nature of our Heavenly Father — the One who never leaves us\, who forgives\, rebuilds\, and lovingly shapes our lives according to His perfect will. \nWhether you’ve experienced the love of an earthly father or carry wounds from a missing one\, this message will speak to your heart and remind you that God is The Good Father who claims you as His own. \n👉 Join us LIVE on YouTube  https://www.youtube.com/watch?v=VYJhZF7aMsc  \n📅 Date: Sunday\, June 15th\n🕙 Time: 10:00 AM (PST)\n📍 Where: Streaming live at Grace Online Church \nThis is a wonderful opportunity to invite your friends and family to watch along with you. Let’s come together as one body and be reminded of the faithful\, unfailing love of our Heavenly Father. \n💬 “The Lord disciplines the one He loves.” — Hebrews 12:6\n💬 “Like clay in the hand of the potter\, so are you in my hand.” — Jeremiah 18:6 \nDon’t miss this encouraging word — we can’t wait to worship with you online! \n👉 Visit us at: www.graceonlinechurch.com
URL:https://graceonlinechurch.com/event/a-good-father-join-us-for-a-special-fathers-day-message-live/
LOCATION:Online – https://www.youtube.com/@GraceTabernacleOnlineChurch \, CA\, 91367\, United States
CATEGORIES:Sunday Worship Service - Grace Online Church
ATTACH;FMTTYPE=image/jpeg:https://graceonlinechurch.com/wp-content/uploads/2025/06/A-good-father-All-Are-Welcome-–-Lets-Learn-and-Grow-Together-in-Unity-june-15th-10AM-PST-www.graceonlinechurch.com-JOIN-US-THIS-Sunday-How-God-shapes-restores-and-loves-us-like-no-earthly.jpg
END:VEVENT
END:VCALENDAR