BEGIN:VCALENDAR
VERSION:2.0
PRODID:-//Grace Online Church  - ECPv6.15.20//NONSGML v1.0//EN
CALSCALE:GREGORIAN
METHOD:PUBLISH
X-ORIGINAL-URL:https://graceonlinechurch.com
X-WR-CALDESC:Events for Grace Online Church 
REFRESH-INTERVAL;VALUE=DURATION:PT1H
X-Robots-Tag:noindex
X-PUBLISHED-TTL:PT1H
BEGIN:VTIMEZONE
TZID:UTC
BEGIN:STANDARD
TZOFFSETFROM:+0000
TZOFFSETTO:+0000
TZNAME:UTC
DTSTART:20240101T000000
END:STANDARD
END:VTIMEZONE
BEGIN:VEVENT
DTSTART;TZID=UTC:20250525T100000
DTEND;TZID=UTC:20250525T110000
DTSTAMP:20260419T174123
CREATED:20250524T004656Z
LAST-MODIFIED:20250524T004739Z
UID:3070-1748167200-1748170800@graceonlinechurch.com
SUMMARY:Join us for a powerful word from Pastor Howard G. Lindsay: “Don’t Despair When You’ve Been Uprooted.”
DESCRIPTION:Have you ever felt like your life was suddenly uprooted?\nLike everything stable and familiar was pulled from beneath your feet—and all you could do was ask God: Why now? Why this? \nIf you’ve been in a season of change\, uncertainty\, or loss… this Sunday’s message is for you. \n🕊️ Join us for a powerful word from Pastor Howard G. Lindsay: “Don’t Despair When You’ve Been Uprooted.”\n📅 Sunday\, May 25\, 2025\n🕙 10 AM PST – Streaming LIVE on YouTube\n🌐 www.graceonlinechurch.com \n \n  \n💬 What You’ll Experience: \nWhen life shakes your foundation\, it’s easy to feel afraid\, abandoned\, or overwhelmed. But what if the uprooting is part of God’s divine replanting? \nIn this soul-stirring message\, Pastor Howard will guide us through how to: \nTrust God in the middle of the unknown \nFind strength when everything feels stripped away \nRecognize the growth happening beneath the surface \nRebuild your life in alignment with God’s plan \n✨ This isn’t just another Sunday. This is a divine appointment.\nWhether you’re watching from your home\, your car\, or your quiet space—God is reaching for your heart. \n🎥 Tune in live and invite a friend who’s been feeling lost\, discouraged\, or disconnected. You never know how one word can shift someone’s entire life. \nYou may feel uprooted—but you’re not undone.\nYou’re not broken—you’re being prepared.\nAnd you’re never alone—God is always working. \n📲 Set a reminder. Share the flyer. Send the link. And meet us there. \n🗓️ Sunday\, May 25\n🕙 10:00 AM PST\n📍 YouTube.com/@GraceOnlineChurch \nLet’s worship. Let’s grow. Let’s heal—together.
URL:https://graceonlinechurch.com/event/3070/
LOCATION:Online – https://www.youtube.com/@GraceTabernacleOnlineChurch \, CA\, 91367\, United States
CATEGORIES:Sunday Worship Service - Grace Online Church
ATTACH;FMTTYPE=image/jpeg:https://graceonlinechurch.com/wp-content/uploads/2025/05/Dont-Despair-When-Youve-Been-Uprooted-.-GRACE-ONLINE-CHURCH-2.jpg
END:VEVENT
END:VCALENDAR