BEGIN:VCALENDAR
VERSION:2.0
PRODID:-//Grace Online Church  - ECPv6.15.20//NONSGML v1.0//EN
CALSCALE:GREGORIAN
METHOD:PUBLISH
X-ORIGINAL-URL:https://graceonlinechurch.com
X-WR-CALDESC:Events for Grace Online Church 
REFRESH-INTERVAL;VALUE=DURATION:PT1H
X-Robots-Tag:noindex
X-PUBLISHED-TTL:PT1H
BEGIN:VTIMEZONE
TZID:America/Los_Angeles
BEGIN:DAYLIGHT
TZOFFSETFROM:-0800
TZOFFSETTO:-0700
TZNAME:PDT
DTSTART:20240310T100000
END:DAYLIGHT
BEGIN:STANDARD
TZOFFSETFROM:-0700
TZOFFSETTO:-0800
TZNAME:PST
DTSTART:20241103T090000
END:STANDARD
BEGIN:DAYLIGHT
TZOFFSETFROM:-0800
TZOFFSETTO:-0700
TZNAME:PDT
DTSTART:20250309T100000
END:DAYLIGHT
BEGIN:STANDARD
TZOFFSETFROM:-0700
TZOFFSETTO:-0800
TZNAME:PST
DTSTART:20251102T090000
END:STANDARD
BEGIN:DAYLIGHT
TZOFFSETFROM:-0800
TZOFFSETTO:-0700
TZNAME:PDT
DTSTART:20260308T100000
END:DAYLIGHT
BEGIN:STANDARD
TZOFFSETFROM:-0700
TZOFFSETTO:-0800
TZNAME:PST
DTSTART:20261101T090000
END:STANDARD
END:VTIMEZONE
BEGIN:VEVENT
DTSTART;TZID=America/Los_Angeles:20250518T100000
DTEND;TZID=America/Los_Angeles:20250518T110000
DTSTAMP:20260419T180425
CREATED:20250518T021826Z
LAST-MODIFIED:20250518T021901Z
UID:3039-1747562400-1747566000@graceonlinechurch.com
SUMMARY:From Uprooted to Unstoppable – A Transformational Sunday Service by Pastor Larry Austin
DESCRIPTION:This Sunday\, May 18 at 10AM (PST)\, Grace Online Church welcomes guest speaker Pastor Larry Austin for a powerful word that will shake your roots — and strengthen your faith.\n\n\n✝️ Sermon Title: From Uprooted to Unstoppable\nSometimes\, God allows the uncomfortable so we can experience the unstoppable. In this message\, Pastor Larry reveals how being uprooted can lead to unexpected growth\, deeper trust\, and divine alignment with God’s purpose for your life. \n“The Christian witness is God’s love being revealed through a person after it has been revealed to a person.” – Pastor Larry Austin \nKey Scriptures:\n\nGenesis 12–13 – Abraham’s journey of faith\nJohn 15:1–2 – Pruning for purpose\nJeremiah 17:7–8 – Roots that go deep\nHebrews 12:11 – The discipline that brings fruit\n\n🎧 Listen or Watch the Full Message:\n🖥 Watch \nTakeaway:\nNo matter how broken\, barren\, or uncertain your season feels — you are being positioned for purpose. God is moving you from disrupted to deployed\, from uprooted to unstoppable. \nDon’t miss this week’s sermon – subscribe\, invite a friend\, and come expectant.
URL:https://graceonlinechurch.com/event/from-uprooted-to-unstoppable-a-transformational-sunday-service-by-pastor-larry-austin/
LOCATION:Online – https://www.youtube.com/@GraceTabernacleOnlineChurch \, CA\, 91367\, United States
CATEGORIES:Sunday Worship Service - Grace Online Church
ATTACH;FMTTYPE=image/jpeg:https://graceonlinechurch.com/wp-content/uploads/2025/05/From-Uprooted-to-Unstoppable.-GRACE-ONLINE-CHURCH-eternal-security-Join-Us-for-Sunday-Service-ETERNAL-SECURITY-SEALED-GUARANTEED-AND-GLORIFIED-.jpg
END:VEVENT
END:VCALENDAR