BEGIN:VCALENDAR
VERSION:2.0
PRODID:-//Grace Online Church  - ECPv6.15.20//NONSGML v1.0//EN
CALSCALE:GREGORIAN
METHOD:PUBLISH
X-ORIGINAL-URL:https://graceonlinechurch.com
X-WR-CALDESC:Events for Grace Online Church 
REFRESH-INTERVAL;VALUE=DURATION:PT1H
X-Robots-Tag:noindex
X-PUBLISHED-TTL:PT1H
BEGIN:VTIMEZONE
TZID:America/Los_Angeles
BEGIN:DAYLIGHT
TZOFFSETFROM:-0800
TZOFFSETTO:-0700
TZNAME:PDT
DTSTART:20240310T100000
END:DAYLIGHT
BEGIN:STANDARD
TZOFFSETFROM:-0700
TZOFFSETTO:-0800
TZNAME:PST
DTSTART:20241103T090000
END:STANDARD
BEGIN:DAYLIGHT
TZOFFSETFROM:-0800
TZOFFSETTO:-0700
TZNAME:PDT
DTSTART:20250309T100000
END:DAYLIGHT
BEGIN:STANDARD
TZOFFSETFROM:-0700
TZOFFSETTO:-0800
TZNAME:PST
DTSTART:20251102T090000
END:STANDARD
BEGIN:DAYLIGHT
TZOFFSETFROM:-0800
TZOFFSETTO:-0700
TZNAME:PDT
DTSTART:20260308T100000
END:DAYLIGHT
BEGIN:STANDARD
TZOFFSETFROM:-0700
TZOFFSETTO:-0800
TZNAME:PST
DTSTART:20261101T090000
END:STANDARD
END:VTIMEZONE
BEGIN:VEVENT
DTSTART;TZID=America/Los_Angeles:20250511T100000
DTEND;TZID=America/Los_Angeles:20250511T110000
DTSTAMP:20260419T174122
CREATED:20250511T030805Z
LAST-MODIFIED:20250511T030841Z
UID:3009-1746957600-1746961200@graceonlinechurch.com
SUMMARY:Mother’s Day Sunday Service – “Your Past Can’t Cancel Your Purpose”
DESCRIPTION:Join Grace Online Church this Mother’s Day at 10 AM PST for a live message: Your Past Can’t Cancel Your Purpose. \nDate: Sunday\, May 12\, 2025Time: 10:00 AM PST (Live on YouTube)Location: Online – GraceOnlineChurch.com |  https://www.youtube.com/watch?v=0OOba_7_LTw \n💐 About the Event \nThis Mother’s Day\, Grace Online Church invites you to join us for a life-changing message from Dr. Ernest L. Jackson:“Your Past Can’t Cancel Your Purpose.” \nWhether you’re a mom\, grandmother\, spiritual mentor\, or someone seeking healing — this message is for you. We’ll take a look at the powerful stories of Tamar\, Rahab\, Ruth\, and Bathsheba — women from Jesus’ own lineage who had complicated pasts but were still chosen by God for great purpose. \n✨ No matter where you’ve been\, God still calls you forward. \n🎥 How to Watch Live\nTune in from anywhere in the world:✅ YouTube Live: https://www.youtube.com/watch?v=0OOba_7_LTw ✅ Website: GraceOnlineChurch.com🕙 Time: Sunday\, May 12 at 10 AM PST📌 Replay will be available after the livestream. \n📢 Spread the Word!\nInvite your friends\, family\, or anyone who needs to hear this message of redemption and purpose. \n❤️ Need Prayer?\nOur team is here for you. Submit a prayer request anytime at GraceOnlineChurch.com/prayer-request
URL:https://graceonlinechurch.com/event/mothers-day-sunday-service/
LOCATION:Online – https://www.youtube.com/@GraceTabernacleOnlineChurch \, CA\, 91367\, United States
CATEGORIES:Sunday Worship Service - Grace Online Church
ATTACH;FMTTYPE=image/jpeg:https://graceonlinechurch.com/wp-content/uploads/2025/05/GRACE-ONLINE-CHURCH-Your-Past-Cant-Cancel-Your-Purpose-1.jpg
END:VEVENT
END:VCALENDAR