BEGIN:VCALENDAR
VERSION:2.0
PRODID:-//Grace Online Church  - ECPv6.15.20//NONSGML v1.0//EN
CALSCALE:GREGORIAN
METHOD:PUBLISH
X-ORIGINAL-URL:https://graceonlinechurch.com
X-WR-CALDESC:Events for Grace Online Church 
REFRESH-INTERVAL;VALUE=DURATION:PT1H
X-Robots-Tag:noindex
X-PUBLISHED-TTL:PT1H
BEGIN:VTIMEZONE
TZID:UTC
BEGIN:STANDARD
TZOFFSETFROM:+0000
TZOFFSETTO:+0000
TZNAME:UTC
DTSTART:20240101T000000
END:STANDARD
END:VTIMEZONE
BEGIN:VEVENT
DTSTART;TZID=UTC:20250427T100000
DTEND;TZID=UTC:20250427T110000
DTSTAMP:20260421T110024
CREATED:20250427T043820Z
LAST-MODIFIED:20250427T043820Z
UID:2938-1745748000-1745751600@graceonlinechurch.com
SUMMARY:Sunday Service with Bishop Ernest Jackson – “Eternal Security” | April 27\, 2025 at 10:00 AM PST 
DESCRIPTION:Join Us for Sunday Service: “ETERNAL SECURITY: SEALED\, GUARANTEED\, AND GLORIFIED”🗓️ April 27\, 2025 | 🕙 10:00 AM PST📍 Grace Online Church with Bishop Ernest Jackson \nCan you be sure of your salvation? Join Bishop Ernest Jackson for a powerful teaching that answers this timeless question through the Word of God.Grounded in scriptures like Philippians 1:6\, John 10:27–29\, and 1 Peter 1:3–5\, discover why your salvation is not temporary — it’s sealed\, guaranteed\, and glorified by God’s own promise. \n✅ Come be strengthened in your faith.✅ Experience the assurance of God’s eternal love.✅ Celebrate the finished work of Christ! \n👉 Click Here to Join the ServiceDon’t miss this life-changing message!
URL:https://graceonlinechurch.com/event/sunday-service-with-bishop-ernest-jackson-eternal-security-april-27-2025-at-1000-am-pst/
LOCATION:Online – https://www.youtube.com/@GraceTabernacleOnlineChurch \, CA\, 91367\, United States
CATEGORIES:Sunday Worship Service - Grace Online Church
ATTACH;FMTTYPE=image/jpeg:https://graceonlinechurch.com/wp-content/uploads/2025/04/GRACE-ONLINE-CHURCH-eternal-security-Join-Us-for-Sunday-Service-ETERNAL-SECURITY-SEALED-GUARANTEED-AND-GLORIFIED-.jpg
END:VEVENT
END:VCALENDAR