BEGIN:VCALENDAR
VERSION:2.0
PRODID:-//Grace Online Church  - ECPv6.15.20//NONSGML v1.0//EN
CALSCALE:GREGORIAN
METHOD:PUBLISH
X-ORIGINAL-URL:https://graceonlinechurch.com
X-WR-CALDESC:Events for Grace Online Church 
REFRESH-INTERVAL;VALUE=DURATION:PT1H
X-Robots-Tag:noindex
X-PUBLISHED-TTL:PT1H
BEGIN:VTIMEZONE
TZID:UTC
BEGIN:STANDARD
TZOFFSETFROM:+0000
TZOFFSETTO:+0000
TZNAME:UTC
DTSTART:20240101T000000
END:STANDARD
END:VTIMEZONE
BEGIN:VEVENT
DTSTART;TZID=UTC:20250330T100000
DTEND;TZID=UTC:20250330T233000
DTSTAMP:20260419T231309
CREATED:20250329T215553Z
LAST-MODIFIED:20250330T015035Z
UID:2748-1743328800-1743377400@graceonlinechurch.com
SUMMARY:Forgiving What You Can’t Forget | Pastor Howard G. Lindsay | Grace Online Church Sunday Service
DESCRIPTION:Dear Beloved Grace Tabernacle Family\, \n\n\n\nGrace and peace to you! \n\n\n\nWe’re excited to invite you to this Sunday’s powerful online worship service\, filled with hope\, healing\, and Holy Spirit-led teaching. As we step into April with renewed faith\, we’re honored to have Pastor Howard G. Lindsay bring the Word\, while Bishop Ernest L. Jackson continues his time of ministry and rest in South Africa. \n\n\n\nhttps://www.youtube.com/watch?v=ezu5ishHnRQ \n\n\n\n\n\n🌟 Sunday Worship Highlights:\n\n\n\n🙋🏽‍♀️ Opening Inspiration from Maya\n\n\n\nMaya opens our service with a timely encouragement on guarding your heart\, inspired by Proverbs 4:23. Her message reminds us: \n\n\n\n“With God\, forgiveness becomes possible\, freedom is within reach\, and favor surrounds you.” \n\n\n\n👑 Women’s History Month Tribute\n\n\n\nThough March has ended\, our celebration of women continues! Chahil Hinton leads a heartfelt tribute to six incredible women whose work has impacted faith\, justice\, education\, and culture: \n\n\n\n\nRachel Held Evans – Christian author & theologian\n\n\n\nDolores Huerta – Labor rights leader & activist\n\n\n\nDr. Vandana Shiva – Environmentalist & women’s advocate\n\n\n\nCarmen Rubin – Storyteller empowering children through books\n\n\n\nRev. Dr. Estrelda Alexander – Church leader & scholar\n\n\n\nDr. Sheila Robinson – Our Associate Pastor & media pioneer\n\n\n\n\n\n\n🕊️ Sermon Message: “Forgiving What You Can’t Forget”\n\n\n\nDelivered by Pastor Howard G. Lindsey \n\n\n\nIf you’ve ever struggled with letting go of the past\, or forgiving someone who never apologized—this message is for you. This sermon dives into the invisible weight of unforgiveness—toward others\, and often\, toward ourselves. \n\n\n\n“You cannot stay bound and walk in freedom at the same time.” \n\n\n\n\n\n📖 Scriptures in Focus:\n\n\n\n\nGenesis 50:20 – “What you meant for evil\, God meant for good…”\n\n\n\nLuke 23:34 – “Father\, forgive them\, for they know not what they do.”\n\n\n\nRomans 8:1 – “There is now no condemnation for those in Christ…”\n\n\n\nIsaiah 43:19 – “Behold\, I will do a new thing…”\n\n\n\nProverbs 4:23 – “Above all else\, guard your heart…”\n\n\n\n\n\n\n🎶 Worship Songs Featured:\n\n\n\nGet ready to lift your hands and your spirit with these soul-stirring worship tracks: \n\n\n\n\nBreak Every Chain (Live) – Tasha Cobbs\n\n\n\nCeCe Winans: Goodness of God (Live)\n\n\n\nOpen The Eyes of My Heart x Jordan G. Welch\n\n\n\n\n\n\n📺 Join Us LIVE – Sunday at 10AM PST\n\n\n\n🌐 Watch the service on YouTube or at: www.graceonlinechurch.com 📲 Invite your friends & family—share the link and worship with us online! \n\n\n\n\n\nLet go. Be free. Walk in forgiveness. We’ll see you online this Sunday! \n\n\n\nWith love and grace\, The Grace Online Church Team \n\nThese songs will stir your soul as you worship with us from wherever you are. \n🎥 Join Us LIVE – Sunday @ 10AM PST\n📍 Watch at: www.graceonlinechurch.com 📲 Share the link\, invite a friend\, and come expecting something good. Let go. Be free. Walk in forgiveness. We’ll see you Sunday! With grace\, The Grace Online Church Team
URL:https://graceonlinechurch.com/event/forgiving-what-you-cant-forget/
LOCATION:Online – https://www.youtube.com/@GraceTabernacleOnlineChurch \, CA\, 91367\, United States
CATEGORIES:Sunday Worship Service - Grace Online Church
ATTACH;FMTTYPE=image/jpeg:https://graceonlinechurch.com/wp-content/uploads/2025/03/forgiving-what-you-cant-forget-Pastor-Howard-G.-Lindsay-www.graceonlinechurch.com-sunday-live-service-Join-us-LIVE-on-youtube-Sunday-march-30-2025-at-10-AM-PST.jpg
END:VEVENT
END:VCALENDAR