BEGIN:VCALENDAR
VERSION:2.0
PRODID:-//Grace Online Church  - ECPv6.15.20//NONSGML v1.0//EN
CALSCALE:GREGORIAN
METHOD:PUBLISH
X-ORIGINAL-URL:https://graceonlinechurch.com
X-WR-CALDESC:Events for Grace Online Church 
REFRESH-INTERVAL;VALUE=DURATION:PT1H
X-Robots-Tag:noindex
X-PUBLISHED-TTL:PT1H
BEGIN:VTIMEZONE
TZID:UTC
BEGIN:STANDARD
TZOFFSETFROM:+0000
TZOFFSETTO:+0000
TZNAME:UTC
DTSTART:20240101T000000
END:STANDARD
END:VTIMEZONE
BEGIN:VEVENT
DTSTART;TZID=UTC:20250531T150000
DTEND;TZID=UTC:20250601T190000
DTSTAMP:20260419T210644
CREATED:20250529T012003Z
LAST-MODIFIED:20250529T012003Z
UID:3077-1748703600-1748804400@graceonlinechurch.com
SUMMARY:Join Us  for a Corporate Fast in Honor of Pentecost: Prepare Your Heart
DESCRIPTION:Good day\, Grace Family – Grace and Peace to each of you! \nI’m writing to invite you into a sacred and powerful moment in the life of our church. \nAs we approach the Feast of Pentecost\, we will be entering into a corporate fast\, beginning 12:00 AM on Monday\, June 2nd and concluding Sunday\, June 8th. \n\nWhy Pentecost?\nPentecost marks the day the Holy Spirit was poured out on the early disciples in the Upper Room. After 50 days of praying\, waiting\, and fasting following Christ’s resurrection\, the Spirit came in power and the Church was born. \nIt’s a celebration of renewal\, empowerment\, and divine purpose. \n\nIn that same spirit\, we as a community will fast together\, seeking: \n\n\nfresh wind\, \n\n\nfresh fire\, \n\n\nand fresh direction from God \n\n\nfor our lives\, our church\, and our purpose. \n\nZoom Preparation Meeting\nTo help everyone prepare spiritually\, mentally\, and practically\, I’m inviting all members to a 30-minute Zoom preparation meeting on: \n🗓️ Saturday\, May 31 at 10:00 AM PT / 1:00 PM ET \nFor those unable to attend Saturday\, an additional session will be offered on: \n🗓️ Sunday\, June 1 at 3:00 PM PT / 6:00 PM ET \n📍 Zoom Meeting ID: 415-822-9566 \n\nWe’ll review: \n\n\nthe purpose and posture of the fast\, \n\n\nwhat to expect\, \n\n\nand how to prepare ourselves \n\n\nso we can walk through this week with focus\, unity\, and spiritual success. I’ll also be available to answer any questions or concerns you may have. \n\nIf you’d like to reach out directly\, please don’t hesitate to call or text me at 646-345-3958. \n\nLet’s go deeper together\, family.I believe God wants to do something fresh in our midst\, and Pentecost is the perfect time to open our hearts to it. \n\nWith love and expectation\,Pastor HowardGrace Online Church“Committed and Resolved to Win”
URL:https://graceonlinechurch.com/event/join-us-for-a-corporate-fast-in-honor-of-pentecost-prepare-your-heart/
LOCATION:Zoom Meeting ID: 415-822-9566
CATEGORIES:Prayer & Worship
ATTACH;FMTTYPE=image/jpeg:https://graceonlinechurch.com/wp-content/uploads/2025/05/Join-Us-for-a-Corporate-Fast-in-Honor-of-Pentecost-Prepare-Your-Heart.-GRACE-ONLINE-CHURCH-eternal-security-Join-Us-for-Sunday-Service-ETERNAL-SECURITY-SEALED-GUARANTEED-AND-GLORIFIED-.jpg
END:VEVENT
END:VCALENDAR