BEGIN:VCALENDAR
VERSION:2.0
PRODID:-//Grace Online Church  - ECPv6.15.20//NONSGML v1.0//EN
CALSCALE:GREGORIAN
METHOD:PUBLISH
X-WR-CALNAME:Grace Online Church 
X-ORIGINAL-URL:https://graceonlinechurch.com
X-WR-CALDESC:Events for Grace Online Church 
REFRESH-INTERVAL;VALUE=DURATION:PT1H
X-Robots-Tag:noindex
X-PUBLISHED-TTL:PT1H
BEGIN:VTIMEZONE
TZID:America/Los_Angeles
BEGIN:DAYLIGHT
TZOFFSETFROM:-0800
TZOFFSETTO:-0700
TZNAME:PDT
DTSTART:20240310T100000
END:DAYLIGHT
BEGIN:STANDARD
TZOFFSETFROM:-0700
TZOFFSETTO:-0800
TZNAME:PST
DTSTART:20241103T090000
END:STANDARD
BEGIN:DAYLIGHT
TZOFFSETFROM:-0800
TZOFFSETTO:-0700
TZNAME:PDT
DTSTART:20250309T100000
END:DAYLIGHT
BEGIN:STANDARD
TZOFFSETFROM:-0700
TZOFFSETTO:-0800
TZNAME:PST
DTSTART:20251102T090000
END:STANDARD
BEGIN:DAYLIGHT
TZOFFSETFROM:-0800
TZOFFSETTO:-0700
TZNAME:PDT
DTSTART:20260308T100000
END:DAYLIGHT
BEGIN:STANDARD
TZOFFSETFROM:-0700
TZOFFSETTO:-0800
TZNAME:PST
DTSTART:20261101T090000
END:STANDARD
END:VTIMEZONE
BEGIN:VEVENT
DTSTART;TZID=America/Los_Angeles:20250212T180000
DTEND;TZID=America/Los_Angeles:20250212T193000
DTSTAMP:20260421T002106
CREATED:20250212T044002Z
LAST-MODIFIED:20250212T044222Z
UID:2409-1739383200-1739388600@graceonlinechurch.com
SUMMARY:The Power of Vision with Pastor Howard G. Lindsay
DESCRIPTION:📅 Date: Every Wednesday🕕 Time: 6 PM PT | 9 PM ET📍 Location: Online (Zoom)🎙️ Facilitator: Pastor Howard G. Lindsay🔗 Zoom Meeting ID: 415-822-9566 \nStruggling to Find Clarity? Learn to Gain a Powerful Vision!\nAre you feeling uncertain about your next step? Do you struggle to hear God’s voice or define your purpose? Join us every Wednesday for an inspiring and transformative Bible Study on “The Power of Vision” with Pastor Howard G. Lindsay. \nWhat You’ll Learn:\n✅ How to hear God’s voice clearly✅ How to define your life’s purpose with confidence✅ How to break through mental and spiritual barriers✅ How to turn your God-given vision into action \nThis is your opportunity to gain clarity\, refocus\, and step boldly into God’s plan for your life. Whether you’re seeking direction\, renewal\, or deeper faith\, this session is for you! \n📲 Join us LIVE on Zoom – Meeting ID: 415-822-9566🔗 For more details\, visit www.graceonlinechurch.com \n🔥 Invite a friend and take this journey toward spiritual clarity and empowerment together!
URL:https://graceonlinechurch.com/event/the-power-of-vision-with-pastor-howard-g-lindsay/
LOCATION:Online – https://www.youtube.com/@GraceTabernacleOnlineChurch \, CA\, 91367\, United States
CATEGORIES:Bible Studies
ATTACH;FMTTYPE=image/jpeg:https://graceonlinechurch.com/wp-content/uploads/2025/02/The-Power-of-Vision-Pastor-Howard-G.-Lindsay-www.graceonlinechurch.com-bible-study-📍-Join-us-LIVE-on-Zoom-🔗-Meeting-ID-415-822-9566-1.jpg
END:VEVENT
END:VCALENDAR