BEGIN:VCALENDAR
VERSION:2.0
PRODID:-//Grace Online Church  - ECPv6.15.20//NONSGML v1.0//EN
CALSCALE:GREGORIAN
METHOD:PUBLISH
X-WR-CALNAME:Grace Online Church 
X-ORIGINAL-URL:https://graceonlinechurch.com
X-WR-CALDESC:Events for Grace Online Church 
REFRESH-INTERVAL;VALUE=DURATION:PT1H
X-Robots-Tag:noindex
X-PUBLISHED-TTL:PT1H
BEGIN:VTIMEZONE
TZID:America/Los_Angeles
BEGIN:DAYLIGHT
TZOFFSETFROM:-0800
TZOFFSETTO:-0700
TZNAME:PDT
DTSTART:20240310T100000
END:DAYLIGHT
BEGIN:STANDARD
TZOFFSETFROM:-0700
TZOFFSETTO:-0800
TZNAME:PST
DTSTART:20241103T090000
END:STANDARD
BEGIN:DAYLIGHT
TZOFFSETFROM:-0800
TZOFFSETTO:-0700
TZNAME:PDT
DTSTART:20250309T100000
END:DAYLIGHT
BEGIN:STANDARD
TZOFFSETFROM:-0700
TZOFFSETTO:-0800
TZNAME:PST
DTSTART:20251102T090000
END:STANDARD
BEGIN:DAYLIGHT
TZOFFSETFROM:-0800
TZOFFSETTO:-0700
TZNAME:PDT
DTSTART:20260308T100000
END:DAYLIGHT
BEGIN:STANDARD
TZOFFSETFROM:-0700
TZOFFSETTO:-0800
TZNAME:PST
DTSTART:20261101T090000
END:STANDARD
END:VTIMEZONE
BEGIN:VEVENT
DTSTART;TZID=America/Los_Angeles:20250205T180000
DTEND;TZID=America/Los_Angeles:20250205T200000
DTSTAMP:20260421T002122
CREATED:20250205T222054Z
LAST-MODIFIED:20250209T065710Z
UID:2228-1738778400-1738785600@graceonlinechurch.com
SUMMARY:Midweek Refresh: Join Us Live on Zoom Tonight at 6PM PT | 9PM ET! 📖
DESCRIPTION:Dear Beloved Grace Online Church Family\, \nTake a midweek pause and refresh your soul! Join us today and every Wednesday at 6PM PT | 9PM ET for an uplifting Bible Study session\, where we dive into God’s Word and grow in faith together. \n📍 Join us on Zoom: 415.822.9566 \nCome as you are—ready to learn\, share\, and seek God’s wisdom as a community. Let’s connect\, encourage one another\, and deepen our walk with Christ. \nWe’d love to see both familiar and new faces! Whether you’ve been with us for years or are joining for the first time\, you are always welcome. \nWe can’t wait to see you there! \nBlessings\,\n \n📖 Grace Online Church \n🌐 www.graceonlinechurch.com\n📲 Follow us on social media: @GraceOnlineChurch\n▶️ Watch & Subscribe: YouTube – Grace Tabernacle Online Church
URL:https://graceonlinechurch.com/event/midweek-refresh-join-us-live-on-zoom-tonight-at-6pm-pt-9pm-et-%f0%9f%93%96/
LOCATION:Online – https://www.youtube.com/@GraceTabernacleOnlineChurch \, CA\, 91367\, United States
CATEGORIES:Bible Studies
ATTACH;FMTTYPE=image/png:https://graceonlinechurch.com/wp-content/uploads/2025/02/christian-spotify-playlsit-2025-grace-online-church.png
END:VEVENT
END:VCALENDAR