BEGIN:VCALENDAR
VERSION:2.0
PRODID:-//Grace Online Church  - ECPv6.15.20//NONSGML v1.0//EN
CALSCALE:GREGORIAN
METHOD:PUBLISH
X-WR-CALNAME:Grace Online Church 
X-ORIGINAL-URL:https://graceonlinechurch.com
X-WR-CALDESC:Events for Grace Online Church 
REFRESH-INTERVAL;VALUE=DURATION:PT1H
X-Robots-Tag:noindex
X-PUBLISHED-TTL:PT1H
BEGIN:VTIMEZONE
TZID:UTC
BEGIN:STANDARD
TZOFFSETFROM:+0000
TZOFFSETTO:+0000
TZNAME:UTC
DTSTART:20240101T000000
END:STANDARD
END:VTIMEZONE
BEGIN:VEVENT
DTSTART;TZID=UTC:20250113T080000
DTEND;TZID=UTC:20250122T170000
DTSTAMP:20260421T022910
CREATED:20250105T201847Z
LAST-MODIFIED:20250117T071830Z
UID:1202-1736755200-1737565200@graceonlinechurch.com
SUMMARY:🗓️ 10-Day Fast: January 13th - 22nd Led by Pastor Howard Lindsay
DESCRIPTION:Join us for a powerful 10-day fast designed to ignite spiritual growth\, bring clarity\, and unlock breakthroughs as we seek God together. \nThis sacred time of prayer and fasting will align our hearts with God’s purpose for 2025. Whether you’re seeking direction\, healing\, or a deeper connection with God\, fasting is a transformative step toward renewal and victory. \n📖 Why Join the Fast? \n\nStrengthen your faith and relationship with God.\nGain spiritual clarity and focus.\nExperience divine breakthroughs in every area of life.\n\nLet’s step into the new year with commitment and resolve\, trusting that God will move in extraordinary ways. \n👉 Mark your calendar and join us in unity as we seek Him together!
URL:https://graceonlinechurch.com/event/%f0%9f%97%93%ef%b8%8f-10-day-fast-january-13th-22nd-led-by-pastor-howard-lindsay/
LOCATION:Online – https://www.youtube.com/@GraceTabernacleOnlineChurch \, CA\, 91367\, United States
CATEGORIES:Bible Studies
ATTACH;FMTTYPE=image/jpeg:https://graceonlinechurch.com/wp-content/uploads/2025/01/THE-POWER-OF-FASTING-PASTOR-HOWARD-LINDSAY-www.graceonlinechurch.com_-3.jpg
END:VEVENT
BEGIN:VEVENT
DTSTART;TZID=UTC:20250122T180000
DTEND;TZID=UTC:20250122T220000
DTSTAMP:20260421T022910
CREATED:20250121T184527Z
LAST-MODIFIED:20250121T184727Z
UID:1812-1737568800-1737583200@graceonlinechurch.com
SUMMARY:Join Us for a Special Time of Worship and Reflection
DESCRIPTION:Join Us for a Special Time of Worship and Reflection\nWe invite you to partake in Holy Communion and celebrate the end of our consecration journey together. \nWhat You’ll Need: \n\nGrape juice or wine\nCrackers (from your local store)\nOr\, consider prefilled Communion sets:\n\nCommunion Fellowship Prefilled Juice & Wafer Set\nBroadman Church Supplies Fellowship Cup Juice and Wafer Set\n\n\n\nEvent Details:\n📅 This Wednesday\n⏰ 6 PM PST | 9 PM EST\n📍 Join Us on Zoom: Meeting ID: 415.822.9566 \nWe can’t wait to worship with you and honor this sacred moment as one family in Christ. \nAll are welcome – Let’s worship in unity! \n🌐 Visit us at: www.graceonlinechurch.com \nHave questions? Feel free to reach out – we’re happy to help! \nBlessings\,\nPastor Howard Lindsay\nGrace Online Church \n 
URL:https://graceonlinechurch.com/event/holy-communion-end-of-consecration/
LOCATION:CA
CATEGORIES:Bible Studies
ATTACH;FMTTYPE=image/jpeg:https://graceonlinechurch.com/wp-content/uploads/2025/01/grace-online-church-Holy-Communion-the-Conclusion-of-Consecration-All-are-welcome-–-Lets-worship-in-unity-Pastor-Howard-Lindsay-www.graceonlinechurch.com-This-Wednesday-at-6-PM-PST-9-PM-ES.jpg
END:VEVENT
END:VCALENDAR